BEGIN:VCALENDAR
VERSION:2.0
PRODID:-//National Forum for the Enhancement of Teaching and Learning in Higher Education - ECPv6.15.17.1//NONSGML v1.0//EN
CALSCALE:GREGORIAN
METHOD:PUBLISH
X-WR-CALNAME:National Forum for the Enhancement of Teaching and Learning in Higher Education
X-ORIGINAL-URL:https://www.teachingandlearning.ie
X-WR-CALDESC:Events for National Forum for the Enhancement of Teaching and Learning in Higher Education
REFRESH-INTERVAL;VALUE=DURATION:PT1H
X-Robots-Tag:noindex
X-PUBLISHED-TTL:PT1H
BEGIN:VTIMEZONE
TZID:UTC
BEGIN:STANDARD
TZOFFSETFROM:+0000
TZOFFSETTO:+0000
TZNAME:UTC
DTSTART:20180101T000000
END:STANDARD
END:VTIMEZONE
BEGIN:VEVENT
DTSTART;VALUE=DATE:20191003
DTEND;VALUE=DATE:20191211
DTSTAMP:20260421T191218
CREATED:20190904T075104Z
LAST-MODIFIED:20190904T075104Z
UID:32530-1570060800-1576022399@www.teachingandlearning.ie
SUMMARY:Digital Badge in UDL - Oct-Dec 2019
DESCRIPTION:[vc_row][vc_column][vc_column_text]We are delighted to announce that AHEAD and UCD Access & Lifelong Learning are teaming up in partnership with the National Forum for the Enhancement of Teaching and Learning in Higher Education to facilitate the Digital Badge for Universal Design in Teaching and Learning in a fully online format this Autumn/Winter. This course was developed by AHEAD and UCD as part of the Forum’s open courses initiative. The course will run for 10 weeks from Oct 3rd 2019 and will provide participants with a strong introduction to the Universal Design for Learning Framework and give them the opportunity to implement UDL approaches within the teaching activities they are currently undertaking. The course involves approximately 25 hours over the 10 week period\, averaging 2.5 hours per week with a 5 hour add on later in the course for those interested in becoming future facilitators of the course themselves. \nThis free iteration of the course is particularly aimed at individuals or groups of individuals who are interested in rolling out the badge themselves as a facilitator at a later date (e.g. for staff in their institution). For more information on the digital badge more generally and how facilitators can roll it out themselves\, visit the webpage. Please note\, since one of the aims of this iteration of the course is to train future facilitators\, we are limiting the number of participants per institution that can sign up to 3 should the course be over subscribed. If we reach full capacity\, we will contact the latest participants to register from each institution to notify them of the situation. \nThere is no cost involved for participants. \nABOUT THIS BADGE\nImplementation of Universal Design principles in teaching & learning promotes inclusivity and equity while also ‘future-proofing’ your teaching. As our classrooms and lecture theatres become increasingly diverse\, our practices must also adapt to reflect the changing landscape of higher education.  Universal Design for Learning (UDL) is an educational framework based on research in the learning sciences\, including cognitive neuroscience\, which guides the development of flexible learning environments that can accommodate individual learning differences and cater for the wide range of diversity in our lecture rooms. This CPD course will give you an introduction to the concept of Universal Design for Learning and invite you to review and update your own teaching and learning practice. \nPARTICIPANTS ON THE COURSE WILL:\n\nReflect on the diversity of students in their Institutions\nGain a good understanding of the Universal Design for Learning framework and how it can support diverse learners\nRedesign some elements of their teaching and learning practice based on their knowledge of UDL principles\nConsider how they will change their practice more broadly in line with a UDL approach\n\n[/vc_column_text][vc_btn title=”Register for this Course” shape=”square” color=”green” size=”lg” align=”center” link=”url:https%3A%2F%2Fopencourses.teachingandlearning.ie%2Fdigital-badge-for-universal-design-in-teaching-and-learning%2F|||”][/vc_column][/vc_row][vc_row][vc_column][vc_tta_accordion][vc_tta_section title=”How the Course Works” tab_id=”1567585487916-0a156c27-386d”][vc_column_text]The course is delivered via a mixture of webinars and guided multimedia resources\, with participants also working through group activities in online meetings as a group of three known as a Peer Triad. They will work together with their Peer Triad throughout the course. \nThe Peer Triad system means that you experience the course with other colleagues and share perspectives on the course content. At the end of the course\, each member of the Triad confirms to the facilitators that the others have taken part in the process and that plays a major role in the release of the digital badge to certify completion. \nOne of the major activities participants will undertake is to redesign a teaching activity they are actively delivering in line with UDL principles and to implement the redesign during the course. This redesign happens during weeks 5-9 of the course\, after the participant has undertaken significant learning about the UDL framework and sought advice from colleagues in their Peer Triad. Because of this\, participants must have some form of teaching activity scheduled during this period which they can redesign (e.g. a lecture\, workshop\, training event\, assignment etc.). \nAt the end of the process\, the Peer Triads will meet to discuss what they learned with each other and share a brief report on their experiences.[/vc_column_text][/vc_tta_section][vc_tta_section title=”Course Entry Requirements” tab_id=”1567585487934-32439878-e354″][vc_column_text]Participants must: \n\nBe working as an educator in a teaching and learning capacity in further or higher education (can include any role where teaching/training is delivered to students/staff e.g. teacher\, librarian\, teaching enhancement staff\, disability officer that delivers training)\nHave a teaching activity (lecture/training session/class/assessment etc.) taking place between week 5 and 9 of this course (Oct 31st – Dec 04th) that they can redesign as part of the course.\nHave an interest in playing a part in rolling the course out themselves as course facilitators in the future (e.g. to other colleagues on campus)\n\nPlease note\, since one of the aims of this iteration of the course is to train future facilitators\, we are limiting the number of participants per institution that can sign up to 3 should the course be over subscribed. If we reach full capacity\, we will contact the latest participants to register from each institution to notify them of the situation.[/vc_column_text][/vc_tta_section][vc_tta_section title=”IT Requirements” tab_id=”1567585574151-8abf2abc-753b”][vc_column_text]This course will feature both webinars and small group online meetings which means you will require a laptop/pc with speakers/headphones\, a webcam and a microphone (for best audio quality a headset rather than an internal laptop mic). The Zoom platform will be used for webinars so it’s a good idea to try and join this test Zoom link now in advance of the course starting and contact your IT administrators for advice if you have any problems. Similarly\, the Big Blue Button platform is used for online meetings – You can test your computer/microphone/webcam for use with Big Blue Button in advance of the course beginning by clicking here\, entering your name and clicking Join under the HTML5 link. \nSince lots of the material on this course is delivered through multimedia\, the course also requires a reasonably good internet connection capable of streaming video.[/vc_column_text][/vc_tta_section][vc_tta_section title=”Key Course Dates to Put in Your Diary Now!” tab_id=”1567585604244-746ede5d-072e”][vc_column_text]Participants should put the key times and dates listed below in their diaries. All other course work can be done at times that suit (within specific time frames). You can download the full course schedule here. \n\n13:00 – 13:45\, Thursday Oct 3rd – Orientation Webinar – Course introduction\, tour of the platform\, introduction to Peer Triads\, week by week breakdown\n13:00 – 13:30\, Tuesday Oct 8th (suggested date/time to be confirmed with your Triad colleagues) – Triad Online Meeting #1 – Introducing yourself to your colleagues\n13:00 – 13:45\, Tuesday Oct 22nd (suggested date/time to be confirmed with your Triad colleagues) – Triad Online Meeting #2 – Group discussions on barriers to learning and UDL solutions\n13:00-13:30\, Wed Oct 23rd – Webinar #2 – Introducing the Redesign Activity\n13:00-14:00\, Wed Oct 30th – (suggested date/time to be confirmed with your Triad colleagues) – Triad Online Meeting #3 – Brainstorm your UDL redesign\n13:00-13:30\, Thurs Dec 5th – Webinar #3 – Submission and Getting Your Badge\n13:00-13:45\, Tues Dec 10th – (suggested date/time to be confirmed with your Triad colleagues) – Triad Online Meeting #4 – Brainstorm your UDL redesign\n\n[/vc_column_text][/vc_tta_section][/vc_tta_accordion][/vc_column][/vc_row][vc_row][vc_column][vc_btn title=”Register for this Course” shape=”square” color=”green” size=”lg” align=”center” link=”url:https%3A%2F%2Fopencourses.teachingandlearning.ie%2Fdigital-badge-for-universal-design-in-teaching-and-learning%2F|||”][/vc_column][/vc_row]
URL:https://www.teachingandlearning.ie/event/digital-badge-in-udl-oct-dec-2019/
CATEGORIES:T&L Events
ATTACH;FMTTYPE=image/jpeg:https://www.teachingandlearning.ie/wp-content/uploads/UDL-badge.jpg
END:VEVENT
BEGIN:VEVENT
DTSTART;VALUE=DATE:20191103
DTEND;VALUE=DATE:20191108
DTSTAMP:20260421T191218
CREATED:20181204T140042Z
LAST-MODIFIED:20190904T084255Z
UID:30002-1572739200-1573171199@www.teachingandlearning.ie
SUMMARY:World Conference on Online Learning 2019
DESCRIPTION:The 28th ICDE World Conference on Online Learning in Dublin\, Ireland is now less than a year away and the team in National Institute for Digital Learning (NIDL) at Dublin City University (DCU) has been busy over recent weeks preparing for the conference. They promise a truly unique Irish experience along with an exciting and engaging conference programme. The call for papers opens on Monday 19th November and in the context of the conference theme of “transforming lives and societies’ there will be a range of opportunities for participants to discuss many of the contemporary issues facing today’s educators.  But there will also be plenty of opportunities for delegates to mix socially and enjoy the sights and delights of Dublin. Watch out over the next few months for further news and updates\, including how to enter a special monthly draw to win tickets to visit the iconic Guinness Storehouse during your stay in Dublin. \nThe National Forum is delighted to be a sponsor of this event. \nVisit https://wcol2019.ie for more information.
URL:https://www.teachingandlearning.ie/event/world-conference-on-online-learning-2019/
LOCATION:Dublin Convention Centre\, Spencer Dock\, N Wall Quay\, North Wall\,\, Dublin 1\, Dublin\, Ireland
CATEGORIES:T&L Events
ATTACH;FMTTYPE=image/jpeg:https://www.teachingandlearning.ie/wp-content/uploads/dublinconcentre-e1441032614251.jpg
END:VEVENT
BEGIN:VEVENT
DTSTART;VALUE=DATE:20191105
DTEND;VALUE=DATE:20191106
DTSTAMP:20260421T191218
CREATED:20191024T131232Z
LAST-MODIFIED:20191105T120750Z
UID:34751-1572912000-1572998399@www.teachingandlearning.ie
SUMMARY:Open Course: Getting Started with Professional Development – PACT
DESCRIPTION:We are delighted to announce that CCT and WIT are teaming up in partnership with the National Forum for the Enhancement of Teaching and Learning in Higher Education to facilitate the Digital Badge for PACT in a fully online format this Autumn/Winter. This course was developed by the National Forum as part of the Forum’s open courses initiative. The course will run for 6 weeks from Nov 5th 2019 and will provide participants with a strong introduction to the Professional Development Framework for all who teach \nRegistration closes Friday\, 1 November 2019 \nClick here for more information including online registration
URL:https://www.teachingandlearning.ie/event/open-course-getting-started-with-professional-development-pact/
CATEGORIES:T&L Events
ATTACH;FMTTYPE=image/png:https://www.teachingandlearning.ie/wp-content/uploads/New-PACT_badge.png
END:VEVENT
BEGIN:VEVENT
DTSTART;TZID=UTC:20191106T123000
DTEND;TZID=UTC:20191106T133000
DTSTAMP:20260421T191218
CREATED:20190820T121048Z
LAST-MODIFIED:20191108T033453Z
UID:31893-1573043400-1573047000@www.teachingandlearning.ie
SUMMARY:Webinar: Learning Analytics: Innovative Practices
DESCRIPTION:[vc_row][vc_column][vc_message]This event has passed. Click here to view the recording.[/vc_message][vc_column_text] \nIn line with our key strategic priority focused on student success\, the National Forum is delighted to announce the second in our series of learning analytics webinars\, which will take place on Wednesday\, 6 November from 12:30-13:30. The purpose of this event\, which is open to all\, is to highlight a number of innovative learning analytics initiatives that will be of interest to staff who teach and policymakers/managers in higher education institutions who wish to learn more about how data can be used to enhance student success. \nTopics will include investigating how to achieve effective interventions prompted by LA data (Erasmus+ Onwards from Learning Analytics (OfLA) project)\, the use of low stakes formative quizzes to dynamically inform impactful teaching design (WIT). We will also see how data is being used to coordinate module assessments\, manage students’ workload and identify students that may be at risk (DCU). \nIn addition to giving participants an opportunity to hear more about good practices in other institutions\, this webinar will also enable them to connect with colleagues across the sector who may share areas of interest or expertise in relation to data-enabled student success. \nThe recording of our first LA webinar\, Learning Analytics: What Works? is available here. \nRegistration\nTo register for this webinar\, please click here. \nQuestions can be directed to Lee.OFarrell@teachingandlearning.ie.[/vc_column_text][/vc_column][/vc_row]
URL:https://www.teachingandlearning.ie/event/webinar-learning-analytics-innovative-practices/
CATEGORIES:T&L Events
ATTACH;FMTTYPE=image/jpeg:https://www.teachingandlearning.ie/wp-content/uploads/webinar-1.jpg
ORGANIZER;CN="National Forum for the Enhancement of Teaching & Learning in Higher Education":MAILTO:info@teachingandlearning.ie
END:VEVENT
END:VCALENDAR