BEGIN:VCALENDAR
VERSION:2.0
PRODID:-//National Forum for the Enhancement of Teaching and Learning in Higher Education - ECPv6.15.17.1//NONSGML v1.0//EN
CALSCALE:GREGORIAN
METHOD:PUBLISH
X-WR-CALNAME:National Forum for the Enhancement of Teaching and Learning in Higher Education
X-ORIGINAL-URL:https://www.teachingandlearning.ie
X-WR-CALDESC:Events for National Forum for the Enhancement of Teaching and Learning in Higher Education
REFRESH-INTERVAL;VALUE=DURATION:PT1H
X-Robots-Tag:noindex
X-PUBLISHED-TTL:PT1H
BEGIN:VTIMEZONE
TZID:UTC
BEGIN:STANDARD
TZOFFSETFROM:+0000
TZOFFSETTO:+0000
TZNAME:UTC
DTSTART:20210101T000000
END:STANDARD
END:VTIMEZONE
BEGIN:VEVENT
DTSTART;TZID=UTC:20220426T094500
DTEND;TZID=UTC:20220426T153000
DTSTAMP:20260421T215519
CREATED:20210921T150411Z
LAST-MODIFIED:20220421T210055Z
UID:45971-1650966300-1650987000@www.teachingandlearning.ie
SUMMARY:Crossing Boundaries 2: Teaching for an Ethnically & Religiously Diverse Ireland
DESCRIPTION:  \nLearning Objectives\n\nTo explore how to bring minority and diverse voices into educational spaces in a safe\, learning environment\nTo inform professional practice about the diversity of religious beliefs in Ireland and support educators to engage in reflective practice as they address the needs of belief diverse learners\nFoster open\, respectful dialogue\, to create a safe space for people of diverse beliefs to engage with each other\, etc.\nTo present the most recent and innovative research and pedagogies underlying a crossing of boundaries in teaching and learning\nContinue to build a network of participants who reflect on challenging and complex issues of religious and belief diversity\n\nClick here to register
URL:https://www.teachingandlearning.ie/event/crossing-boundaries-2-teaching-for-an-ethnically-religiously-diverse-ireland/
CATEGORIES:Limerick,Mary Immaculate College,NSS 21/22,The Professional Development of All Those Who Teach
ATTACH;FMTTYPE=image/jpeg:https://www.teachingandlearning.ie/wp-content/uploads/Mary-Immaculate-College-1000x500.jpg
ORGANIZER;CN="Patricia Kieran":MAILTO:Patricia.Kieran@mic.ul.ie
END:VEVENT
BEGIN:VEVENT
DTSTART;TZID=UTC:20220428T093000
DTEND;TZID=UTC:20220428T124500
DTSTAMP:20260421T215519
CREATED:20210921T144622Z
LAST-MODIFIED:20220412T134543Z
UID:45967-1651138200-1651149900@www.teachingandlearning.ie
SUMMARY:Amplifying the Upside to Academic Life
DESCRIPTION:Learning Objectives\n\nEngage in interdisciplinary peer dialogue and cultivate a professional network that seeks to enhance teaching\, learning and scholarship\nClarify their values\, interest\, strengths and skills as they relate to teaching\, learning and scholarship with an emphasis on strengths based learning\nBecome aware and articulate the position of teaching and learning in the context of their early career professional development\nDevelop a bespoke plan that identifies key short and long term goals relevant to teaching\, learning and scholarship\n\nClick here to register
URL:https://www.teachingandlearning.ie/event/enhancing-teaching-learning-and-scholarship-through-positive-psychology/
CATEGORIES:Limerick,NSS 21/22,The Professional Development of All Those Who Teach,University of Limerick
ATTACH;FMTTYPE=image/jpeg:https://www.teachingandlearning.ie/wp-content/uploads/in-university-limerick-07f235da250f7e91b92e6854ac42fdfa.jpg
ORGANIZER;CN="Jennifer McMahon":MAILTO:jennifer.mcmahon@ul.ie
END:VEVENT
END:VCALENDAR