BEGIN:VCALENDAR
VERSION:2.0
PRODID:-//National Forum for the Enhancement of Teaching and Learning in Higher Education - ECPv6.15.17.1//NONSGML v1.0//EN
CALSCALE:GREGORIAN
METHOD:PUBLISH
X-ORIGINAL-URL:https://www.teachingandlearning.ie
X-WR-CALDESC:Events for National Forum for the Enhancement of Teaching and Learning in Higher Education
REFRESH-INTERVAL;VALUE=DURATION:PT1H
X-Robots-Tag:noindex
X-PUBLISHED-TTL:PT1H
BEGIN:VTIMEZONE
TZID:UTC
BEGIN:STANDARD
TZOFFSETFROM:+0000
TZOFFSETTO:+0000
TZNAME:UTC
DTSTART:20210101T000000
END:STANDARD
END:VTIMEZONE
BEGIN:VEVENT
DTSTART;TZID=UTC:20220302T100000
DTEND;TZID=UTC:20220302T150000
DTSTAMP:20260421T234625
CREATED:20210921T133753Z
LAST-MODIFIED:20220303T113057Z
UID:45926-1646215200-1646233200@www.teachingandlearning.ie
SUMMARY:Lights\, Camera\, Action: Use of Video for Teaching and Assessment
DESCRIPTION:Learning Objectives\n\nAcquire skills in accessing discipline-specific videos from banks currently available\nAcquire tips on opportunities and pitfalls in custom-made videos\nPractice using the H5P tool to use videos for assessment\nAcquire skills to use videos for the flipped classroom (pre-class or pre-lab)\nLearn how to use videos for peer assessment and associated GDPR guidance
URL:https://www.teachingandlearning.ie/event/lights-camera-action-use-of-video-for-teaching-and-assessment/
CATEGORIES:Athlone Institute of Technology,NSS 21/22,Student Success,Teaching and Learning Enhancement Within and Across Disciplines,Teaching and Learning in a Digital World,The Professional Development of All Those Who Teach,Westmeath
ATTACH;FMTTYPE=image/png:https://www.teachingandlearning.ie/wp-content/uploads/TUS-1.png
ORGANIZER;CN="Geraldine Cuskelly":MAILTO:gcuskelly@ait.ie
END:VEVENT
BEGIN:VEVENT
DTSTART;TZID=UTC:20220304T093000
DTEND;TZID=UTC:20220304T110000
DTSTAMP:20260421T234625
CREATED:20210922T152623Z
LAST-MODIFIED:20220214T160701Z
UID:45912-1646386200-1646391600@www.teachingandlearning.ie
SUMMARY:Maximising the Impact of Learning Conversations in Experiential Education
DESCRIPTION:Learning Objectives\n\nImplement strategies to establish a supportive learning environment\nIdentify similarities across types of learning conversations\, including feedback\, coaching\, and debriefing\nDistinguish between feedback\, coaching\, and debriefing\nDemonstrate the common elements of an effective learning conversation\, including structure and specific strategies of inquiry that promote reflection and goal setting\n\nClick here to register
URL:https://www.teachingandlearning.ie/event/maximising-the-impact-of-learning-conversations-in-experiential-education/
CATEGORIES:Dublin,NSS 21/22,RCSI University of Medicine and Health Sciences,The Professional Development of All Those Who Teach
ATTACH;FMTTYPE=image/jpeg:https://www.teachingandlearning.ie/wp-content/uploads/RCSI-1000x500.jpg
ORGANIZER;CN="simulation@rcsi.ie":MAILTO:simulation@rcsi.ie
END:VEVENT
BEGIN:VEVENT
DTSTART;TZID=UTC:20220304T113000
DTEND;TZID=UTC:20220304T130000
DTSTAMP:20260421T234625
CREATED:20210921T134255Z
LAST-MODIFIED:20220214T160841Z
UID:45913-1646393400-1646398800@www.teachingandlearning.ie
SUMMARY:Enhancing Effectiveness of Teaching Teams Through Team Inclusiveness
DESCRIPTION:Learning Objectives\n\nIdentify how collective reflection promotes learning and performance\nExplain the concrete beliefs and behaviours that comprise team reflection and team inclusiveness\nIdentify the potential benefits of team inclusiveness for creativity\, innovation\, and team effectiveness\nImplement team reflection and team inclusiveness into educational practice\n\nClick here to register
URL:https://www.teachingandlearning.ie/event/enhancing-effectiveness-of-teaching-teams-through-team-inclusiveness/
CATEGORIES:Dublin,NSS 21/22,RCSI University of Medicine and Health Sciences,The Professional Development of All Those Who Teach
ATTACH;FMTTYPE=image/jpeg:https://www.teachingandlearning.ie/wp-content/uploads/RCSI-1000x500.jpg
ORGANIZER;CN="simulation@rcsi.ie":MAILTO:simulation@rcsi.ie
END:VEVENT
BEGIN:VEVENT
DTSTART;TZID=UTC:20220315T100000
DTEND;TZID=UTC:20220315T120000
DTSTAMP:20260421T234625
CREATED:20210921T144102Z
LAST-MODIFIED:20220224T122010Z
UID:45966-1647338400-1647345600@www.teachingandlearning.ie
SUMMARY:Developing Anti-racist Practice in Professional Education
DESCRIPTION:Learning Objectives\n\nEnhance awareness of students’ experiences of racism in placement settings\nProvide an overview of the anti-racism training resource developed for Community Development and Youth Work students and learnings from the process\nDiscuss the experiences of staff supporting anti-racist practice in professional education and share best practice examples\n\nClick here to register
URL:https://www.teachingandlearning.ie/event/developing-anti-racist-practice-in-professional-education/
CATEGORIES:Dublin,NSS 21/22,Technological University Dublin,The Professional Development of All Those Who Teach
ATTACH;FMTTYPE=image/jpeg:https://www.teachingandlearning.ie/wp-content/uploads/DIT-1000x500.jpg
ORGANIZER;CN="Br%C3%ADd N%C3%AD Chonaill":MAILTO:brid.nichonaill@tudublin.ie
END:VEVENT
BEGIN:VEVENT
DTSTART;TZID=UTC:20220322T093000
DTEND;TZID=UTC:20220322T120000
DTSTAMP:20260421T234625
CREATED:20210921T094652Z
LAST-MODIFIED:20220202T130209Z
UID:45931-1647941400-1647950400@www.teachingandlearning.ie
SUMMARY:Building a Community of Inquiry Online: Deepening Student Experiential Learning
DESCRIPTION:Learning Objectives\n\nUnderstand the principles of the educational community of inquiry (ECoI) framework\nDescribe the benefits and challenges of using ECoI framework in undergraduate education\nPlan for the introduction of ECoI to curriculum design\nExplore the potential for alignment of a community of inquiry approach with experiential learning placements\n\nClick here to register
URL:https://www.teachingandlearning.ie/event/building-a-community-of-inquiry-online-deepening-student-experiential-learning/
CATEGORIES:Dublin,NSS 21/22,The Professional Development of All Those Who Teach,Trinity College Dublin
ATTACH;FMTTYPE=image/jpeg:https://www.teachingandlearning.ie/wp-content/uploads/TCD-1000x500.jpg
ORGANIZER;CN="Cicely Roche":MAILTO:rocheci@tcd.ie
END:VEVENT
BEGIN:VEVENT
DTSTART;TZID=UTC:20220329T100000
DTEND;TZID=UTC:20220329T143000
DTSTAMP:20260421T234625
CREATED:20210921T144922Z
LAST-MODIFIED:20220316T104425Z
UID:45965-1648548000-1648564200@www.teachingandlearning.ie
SUMMARY:Using Informed Learning to Embed Information Literacy Practices in Curricula
DESCRIPTION:Learning Objectives\n\nEngage with the concept of ‘Informed Learning’ and how it can enhance Information Literacy teaching\nExplore the purpose of a curricular level approach to Information Literacy teaching\nEstablish the importance of collaborations with disciplinary teaching staff for an ‘Informed Learning’ approach and explore possible practical applications within subject areas\nConsider how to include ‘Informed Learning’ in Information Literacy teaching at a curricular level\n\nClick here to register
URL:https://www.teachingandlearning.ie/event/using-informed-learning-to-embed-information-literacy-practices-in-curricula/
CATEGORIES:Carlow,Carlow Institute of Technology,Institute of Technology,NSS 21/22,Student Success,Teaching and Learning Enhancement Within and Across Disciplines,The Professional Development of All Those Who Teach
ATTACH;FMTTYPE=image/jpeg:https://www.teachingandlearning.ie/wp-content/uploads/Education_The-Barrow-Centre-Carlow-IT-1.jpg
ORGANIZER;CN="Breda Connell":MAILTO:breda.connell@itcarlow.ie
END:VEVENT
BEGIN:VEVENT
DTSTART;VALUE=DATE:20220330
DTEND;VALUE=DATE:20220331
DTSTAMP:20260421T234625
CREATED:20210921T145151Z
LAST-MODIFIED:20210922T095509Z
UID:45968-1648598400-1648684799@www.teachingandlearning.ie
SUMMARY:Creating Engagement through Interaction
DESCRIPTION:Learning Objectives\n\nDesign a module to foster an engaging learner experience\nSeamlessly blend technology into their teaching\nUse media tools to enhance student interaction (using collaborative tools such as Jamboard & Padlet where no prior experience is necessary)\nCultivate a positive classroom atmosphere
URL:https://www.teachingandlearning.ie/event/creating-engagement-through-interaction/
CATEGORIES:Dublin,IBAT College Dublin,NSS 21/22,Teaching and Learning in a Digital World,The Professional Development of All Those Who Teach
ATTACH;FMTTYPE=image/png:https://www.teachingandlearning.ie/wp-content/uploads/0_ibat-collegePNG.png
ORGANIZER;CN="Daniel Stanley":MAILTO:daniel.stanley@ibat.ie
END:VEVENT
END:VCALENDAR