BEGIN:VCALENDAR
VERSION:2.0
PRODID:-//National Forum for the Enhancement of Teaching and Learning in Higher Education - ECPv6.15.17.1//NONSGML v1.0//EN
CALSCALE:GREGORIAN
METHOD:PUBLISH
X-WR-CALNAME:National Forum for the Enhancement of Teaching and Learning in Higher Education
X-ORIGINAL-URL:https://www.teachingandlearning.ie
X-WR-CALDESC:Events for National Forum for the Enhancement of Teaching and Learning in Higher Education
REFRESH-INTERVAL;VALUE=DURATION:PT1H
X-Robots-Tag:noindex
X-PUBLISHED-TTL:PT1H
BEGIN:VTIMEZONE
TZID:UTC
BEGIN:STANDARD
TZOFFSETFROM:+0000
TZOFFSETTO:+0000
TZNAME:UTC
DTSTART:20210101T000000
END:STANDARD
END:VTIMEZONE
BEGIN:VEVENT
DTSTART;TZID=UTC:20220203T130000
DTEND;TZID=UTC:20220203T143000
DTSTAMP:20260422T012610
CREATED:20210921T132850Z
LAST-MODIFIED:20220125T135322Z
UID:45954-1643893200-1643898600@www.teachingandlearning.ie
SUMMARY:ePortfolio: Enhancing Student Engagement through Reflective Writing
DESCRIPTION:Learning Objectives\n\nIdentify the challenges faced by students when they engage with ePortfolio writing\nExamine ways to support students in writing effective reflections on their learning and experience\nCritically assess some ‘case study’ examples of international best practice associated with writing reflectively for ePortfolio\nReflect on how these successes and challenges might transfer to an Irish higher education context\, and discuss ways to enhance student engagement through reflective writing\n\nSpeaker: Professor Kathleen Yancey \nClick here to register
URL:https://www.teachingandlearning.ie/event/eportfolio-enhancing-student-engagement-through-reflective-writing/
CATEGORIES:NSS 21/22,Student Success,Teaching and Learning Enhancement Within and Across Disciplines,Teaching and Learning in a Digital World,The Professional Development of All Those Who Teach,Waterford,Waterford Institute of Technology
ATTACH;FMTTYPE=image/jpeg:https://www.teachingandlearning.ie/wp-content/uploads/WIT-1000x500.jpg
ORGANIZER;CN="Don O'Neill":MAILTO:doneill@wit.ie
END:VEVENT
BEGIN:VEVENT
DTSTART;TZID=UTC:20220204T100000
DTEND;TZID=UTC:20220204T110000
DTSTAMP:20260422T012610
CREATED:20210921T110249Z
LAST-MODIFIED:20220128T163745Z
UID:45952-1643968800-1643972400@www.teachingandlearning.ie
SUMMARY:Using MS OneNote for Practical and Portfolio Assessment
DESCRIPTION:Learning Objectives\n\nObtain an overview on the use of MS OneNote for practical work and portfolios\nEstablish sustainable workflows for managing student engagement\, submission\, and feedback of assessment\nExplore student perspectives of using MS OneNote\nShare best practice in assessment of practical and portfolio work
URL:https://www.teachingandlearning.ie/event/using-ms-onenote-for-practical-and-portfolio-assessment/
CATEGORIES:Carlow,Carlow Institute of Technology,Institute of Technology,NSS 21/22,Online Only,Student Success,Teaching and Learning Enhancement Within and Across Disciplines,Teaching and Learning in a Digital World,The Professional Development of All Those Who Teach
ATTACH;FMTTYPE=image/jpeg:https://www.teachingandlearning.ie/wp-content/uploads/Education_The-Barrow-Centre-Carlow-IT-1.jpg
ORGANIZER;CN="Dina Brazil":MAILTO:dina.brazil@itcarlow.ie
END:VEVENT
BEGIN:VEVENT
DTSTART;TZID=UTC:20220224T110000
DTEND;TZID=UTC:20220224T120000
DTSTAMP:20260422T012610
CREATED:20210921T133108Z
LAST-MODIFIED:20220127T114521Z
UID:45961-1645700400-1645704000@www.teachingandlearning.ie
SUMMARY:HyFlex Delivery: What works\, what doesn’t and what we couldn’t get going!
DESCRIPTION:Learning Objectives\n\nOverview of different technical solutions for HyFlex delivery\nInsight into the logistics and management of HyFlex delivery\nAppreciation of the learner and lecturer feedback on HyFlex delivery\n\nThis event is in collaboration with Dublin Business School\, Royal College of Surgeons Ireland\, Technological University Dublin and Dublin City University. \nClick here to register
URL:https://www.teachingandlearning.ie/event/hyflex-delivery-what-works-what-doesnt-and-what-we-couldnt-get-going/
CATEGORIES:Dublin,Dublin Business School,Dublin City University,NSS 21/22,RCSI University of Medicine and Health Sciences,Teaching and Learning in a Digital World,The Professional Development of All Those Who Teach,TU Dublin
ATTACH;FMTTYPE=image/jpeg:https://www.teachingandlearning.ie/wp-content/uploads/dbs.jpg
ORGANIZER;CN="Tony Murphy":MAILTO:tony.murphy@dbs.ie
END:VEVENT
END:VCALENDAR