BEGIN:VCALENDAR
VERSION:2.0
PRODID:-//National Forum for the Enhancement of Teaching and Learning in Higher Education - ECPv6.15.17.1//NONSGML v1.0//EN
CALSCALE:GREGORIAN
METHOD:PUBLISH
X-WR-CALNAME:National Forum for the Enhancement of Teaching and Learning in Higher Education
X-ORIGINAL-URL:https://www.teachingandlearning.ie
X-WR-CALDESC:Events for National Forum for the Enhancement of Teaching and Learning in Higher Education
REFRESH-INTERVAL;VALUE=DURATION:PT1H
X-Robots-Tag:noindex
X-PUBLISHED-TTL:PT1H
BEGIN:VTIMEZONE
TZID:UTC
BEGIN:STANDARD
TZOFFSETFROM:+0000
TZOFFSETTO:+0000
TZNAME:UTC
DTSTART:20210101T000000
END:STANDARD
END:VTIMEZONE
BEGIN:VEVENT
DTSTART;TZID=UTC:20220111T133000
DTEND;TZID=UTC:20220111T133000
DTSTAMP:20260422T030913
CREATED:20210921T100805Z
LAST-MODIFIED:20211202T154904Z
UID:45939-1641907800-1641907800@www.teachingandlearning.ie
SUMMARY:Plotting your UDL journey: Getting Started and Moving Forward
DESCRIPTION:Learning Objectives\n\nParticipants will learn to apply early steps\, approaches and strategies to confidently initiate inclusive practice in their student interactions\nParticipants will learn how to build upon these early steps iteratively over time\, moving toward excellent inclusive practice\nParticipants will learn how to approach classroom co-creation with students using UDL as a framework\nParticipants will learn how to leverage the UDL framework and the process of co-creation to increase creativity\, collaboration\, and learning in their classrooms
URL:https://www.teachingandlearning.ie/event/plotting-your-udl-journey-getting-started-and-moving-forward/
CATEGORIES:Cork,Kerry,Munster Technological University,NSS 21/22,Student Success,Teaching and Learning Enhancement Within and Across Disciplines,The Professional Development of All Those Who Teach
ATTACH;FMTTYPE=image/jpeg:https://www.teachingandlearning.ie/wp-content/uploads/CIT-1000x500.jpg
ORGANIZER;CN="Marian Hurley":MAILTO:Marian.Hurley@cit.ie
END:VEVENT
BEGIN:VEVENT
DTSTART;TZID=UTC:20220113T090000
DTEND;TZID=UTC:20220113T123000
DTSTAMP:20260422T030913
CREATED:20210921T102327Z
LAST-MODIFIED:20220106T114127Z
UID:45942-1642064400-1642077000@www.teachingandlearning.ie
SUMMARY:Active Learning to Engage Students and Enhance Learning
DESCRIPTION:Learning Objectives\n\nDiscuss the role of active learning in student engagement and learning\nEvaluate effective student engagement strategies for your context\nDescribe the challenges and opportunities presented by Active Learning\nApply the be “ACTIVE” Learning Framework and create a structured plan to embed active learning in your own teaching and learning context\n\nClick here to register
URL:https://www.teachingandlearning.ie/event/active-learning-to-engage-students-and-enhance-learning/
CATEGORIES:Cork,Munster Technological University,NSS 21/22,Student Success,Teaching and Learning Enhancement Within and Across Disciplines,Teaching and Learning in a Digital World,The Professional Development of All Those Who Teach
ATTACH;FMTTYPE=image/jpeg:https://www.teachingandlearning.ie/wp-content/uploads/CIT-1000x500.jpg
ORGANIZER;CN="Thomas Broderick":MAILTO:thomas.broderick@cit.ie
END:VEVENT
BEGIN:VEVENT
DTSTART;VALUE=DATE:20220126
DTEND;VALUE=DATE:20220127
DTSTAMP:20260422T030914
CREATED:20210921T104522Z
LAST-MODIFIED:20211214T102542Z
UID:45904-1643155200-1643241599@www.teachingandlearning.ie
SUMMARY:Teaching\, Learning and Assessment Approaches to Support Wellbeing
DESCRIPTION:Learning Objectives\n\nUnderstand the concept of pedagogy of care\nDevelop an appreciation of student wellbeing issues in higher education\nAppraise a variety of teaching\, learning and assessment approaches that support wellbeing\nPlan to enhance one’s own teaching\, learning and assessment approaches
URL:https://www.teachingandlearning.ie/event/teaching-learning-and-assessment-approaches-to-support-wellbeing/
CATEGORIES:Dublin,Dublin City University,NSS 21/22,The Professional Development of All Those Who Teach
ATTACH;FMTTYPE=image/jpeg:https://www.teachingandlearning.ie/wp-content/uploads/DCU-1000x500.jpg
ORGANIZER;CN="Rob Lowney":MAILTO:rob.lowney@dcu.ie
END:VEVENT
BEGIN:VEVENT
DTSTART;TZID=UTC:20220126T133000
DTEND;TZID=UTC:20220126T150000
DTSTAMP:20260422T030914
CREATED:20210921T105050Z
LAST-MODIFIED:20211222T161342Z
UID:45946-1643203800-1643209200@www.teachingandlearning.ie
SUMMARY:Challenges for Learning Design & Teaching Practice Beyond the Pandemic (w/t)
DESCRIPTION:Learning Objectives\n\nGain a solid understanding of approaches to large-scale pedagogic change in higher education\nReflect on the principles underpinning active blended learning (ABL) and their application within HE institutions\nConsider lessons learned from the transition to emergency remote teaching (ERT) and its impact on subsequent teaching practices\nIdentify new staff development needs as a result of the challenges posed by the pandemic\nOpportunity to imagine viable pedagogic futures in HE post-COVID
URL:https://www.teachingandlearning.ie/event/challenges-for-learning-design-teaching-practice-beyond-the-pandemic-w-t/
CATEGORIES:Dublin,Hibernia College,NSS 21/22,Teaching and Learning in a Digital World,The Professional Development of All Those Who Teach
ATTACH;FMTTYPE=image/jpeg:https://www.teachingandlearning.ie/wp-content/uploads/Hibernia-Pic.jpg
ORGANIZER;CN="Dr Linda Butler Neff":MAILTO:lbutlerneff@hiberniacollege.net
END:VEVENT
END:VCALENDAR