BEGIN:VCALENDAR
VERSION:2.0
PRODID:-//National Forum for the Enhancement of Teaching and Learning in Higher Education - ECPv6.15.17.1//NONSGML v1.0//EN
CALSCALE:GREGORIAN
METHOD:PUBLISH
X-WR-CALNAME:National Forum for the Enhancement of Teaching and Learning in Higher Education
X-ORIGINAL-URL:https://www.teachingandlearning.ie
X-WR-CALDESC:Events for National Forum for the Enhancement of Teaching and Learning in Higher Education
REFRESH-INTERVAL;VALUE=DURATION:PT1H
X-Robots-Tag:noindex
X-PUBLISHED-TTL:PT1H
BEGIN:VTIMEZONE
TZID:UTC
BEGIN:STANDARD
TZOFFSETFROM:+0000
TZOFFSETTO:+0000
TZNAME:UTC
DTSTART:20200101T000000
END:STANDARD
END:VTIMEZONE
BEGIN:VEVENT
DTSTART;TZID=UTC:20211201T100000
DTEND;TZID=UTC:20211201T120000
DTSTAMP:20260422T044150
CREATED:20210916T135622Z
LAST-MODIFIED:20211126T111008Z
UID:45925-1638352800-1638360000@www.teachingandlearning.ie
SUMMARY:Exploring Gender Friendly Practices with Children and Young People
DESCRIPTION:Learning Objectives\n\nInterrogate the ethos of gender friendly practice\, in particular in settings with children and young people\nExplore and challenge gender stereotypes and the associated harms\nConsider strategies to support students in challenging gender stereotypes in their practice\n\n  \nEvent hosted on Zoom
URL:https://www.teachingandlearning.ie/event/__trashed-4/
CATEGORIES:Carlow,Carlow Institute of Technology,Institute of Technology,NSS 21/22,Student Success,The Professional Development of All Those Who Teach
ATTACH;FMTTYPE=image/jpeg:https://www.teachingandlearning.ie/wp-content/uploads/Education_The-Barrow-Centre-Carlow-IT-1.jpg
ORGANIZER;CN="Mary Beare Aust":MAILTO:mary.aust@itcarlow.ie
END:VEVENT
BEGIN:VEVENT
DTSTART;TZID=UTC:20211201T140000
DTEND;TZID=UTC:20211201T160000
DTSTAMP:20260422T044150
CREATED:20210921T085410Z
LAST-MODIFIED:20211103T110031Z
UID:45924-1638367200-1638374400@www.teachingandlearning.ie
SUMMARY:Compassion in Groupwork
DESCRIPTION:Learning Objectives\n\nDiscuss the theoretical basis for rooting compassion into university curricula\nExplore how the enactment of compassion can promote inclusivity and critical thinking in groupwork\nConsider how the micro skills of compassion can be taught and assessed
URL:https://www.teachingandlearning.ie/event/compassion-in-groupwork/
CATEGORIES:Dublin,National College of Ireland,NSS 21/22,The Professional Development of All Those Who Teach
ATTACH;FMTTYPE=image/jpeg:https://www.teachingandlearning.ie/wp-content/uploads/National-College-of-Ireland.jpg
ORGANIZER;CN="Yvonne Emmett":MAILTO:yvonne.emmett@ncirl.ie
END:VEVENT
BEGIN:VEVENT
DTSTART;TZID=UTC:20211203T120000
DTEND;TZID=UTC:20211203T130000
DTSTAMP:20260422T044150
CREATED:20210921T094037Z
LAST-MODIFIED:20211105T165912Z
UID:45929-1638532800-1638536400@www.teachingandlearning.ie
SUMMARY:Promoting Inclusivity through Universal Design for Learning (UDL)
DESCRIPTION:Learning Objectives\n\nIdentify the fundamental principles of universal design for learning (UDL)\nExplore the value of UDL in blended learning programmes in the post-COVID classroom\nConsider the potential of UDL as a framework to promote inclusivity in all areas of campus life\nExplore the contribution of the UDL framework to other areas\, such as anti-racist pedagogy
URL:https://www.teachingandlearning.ie/event/promoting-inclusivity-through-universal-design-for-learning-udl/
CATEGORIES:Limerick,NSS 21/22,The Professional Development of All Those Who Teach,University of Limerick
ATTACH;FMTTYPE=image/jpeg:https://www.teachingandlearning.ie/wp-content/uploads/in-university-limerick-07f235da250f7e91b92e6854ac42fdfa.jpg
ORGANIZER;CN="Lydia Bracken":MAILTO:lydia.bracken@ul.ie
END:VEVENT
BEGIN:VEVENT
DTSTART;TZID=UTC:20211203T120000
DTEND;TZID=UTC:20211203T133000
DTSTAMP:20260422T044150
CREATED:20210921T090330Z
LAST-MODIFIED:20211111T091924Z
UID:45928-1638532800-1638538200@www.teachingandlearning.ie
SUMMARY:Learning Analytics – A Critical Issue in Higher Education
DESCRIPTION:Learning Objectives\n\nTo critically explore and discuss learning analytics approaches and experiences\nTo raise awareness of existing useful Irish and international learning analytics resources and case studies
URL:https://www.teachingandlearning.ie/event/learning-analytics-a-critical-issue-in-higher-education/
CATEGORIES:Carlow,Carlow Institute of Technology,NSS 21/22,Student Success,Teaching and Learning in a Digital World,The Professional Development of All Those Who Teach
ATTACH;FMTTYPE=image/jpeg:https://www.teachingandlearning.ie/wp-content/uploads/Education_The-Barrow-Centre-Carlow-IT-1.jpg
ORGANIZER;CN="Damien Raftery":MAILTO:damien.raftery@itcarlow.ie
END:VEVENT
BEGIN:VEVENT
DTSTART;TZID=UTC:20211210T140000
DTEND;TZID=UTC:20211210T153000
DTSTAMP:20260422T044150
CREATED:20210921T095159Z
LAST-MODIFIED:20211123T112927Z
UID:45933-1639144800-1639150200@www.teachingandlearning.ie
SUMMARY:Successfully Supervising Research Students Remotely
DESCRIPTION:Learning Objectives\n\nHow to effectively engage with remote research supervision\nPeer to peer learning between participants\nFacilitation reflection on pros and cons of remote supervision\nSupporting the creation of a community of practice in research supervision nationally
URL:https://www.teachingandlearning.ie/event/successful-remote-supervision-of-research-students/
CATEGORIES:Dublin,NSS 21/22,The Professional Development of All Those Who Teach,University College Dublin
ATTACH;FMTTYPE=image/jpeg:https://www.teachingandlearning.ie/wp-content/uploads/UCD-1000x500.jpg
ORGANIZER;CN="Janet Carton":MAILTO:janet.carton@ucd.ie
END:VEVENT
BEGIN:VEVENT
DTSTART;TZID=UTC:20211217T100000
DTEND;TZID=UTC:20211217T120000
DTSTAMP:20260422T044150
CREATED:20210921T095848Z
LAST-MODIFIED:20211119T164221Z
UID:45937-1639735200-1639742400@www.teachingandlearning.ie
SUMMARY:Using Student Feedback and Learning Analytics in your Professional Development
DESCRIPTION:Learning Objectives\n\nParticipants will amend or modify teaching/curriculum considering student evaluations\nParticipants will amend or modify teaching/curriculum considering learning analytics\nParticipants will consider how to close the feedback loop\nParticipants will consider how to incorporate student feedback and learning analytics in their professional development
URL:https://www.teachingandlearning.ie/event/using-student-feedback-and-learning-analytics-in-your-professional-development/
CATEGORIES:Limerick,NSS 21/22,The Professional Development of All Those Who Teach,University of Limerick
ATTACH;FMTTYPE=image/jpeg:https://www.teachingandlearning.ie/wp-content/uploads/in-university-limerick-07f235da250f7e91b92e6854ac42fdfa.jpg
ORGANIZER;CN="Angelica Risquez":MAILTO:angelica.risquez@ul.ie
END:VEVENT
END:VCALENDAR