BEGIN:VCALENDAR
VERSION:2.0
PRODID:-//National Forum for the Enhancement of Teaching and Learning in Higher Education - ECPv6.15.17.1//NONSGML v1.0//EN
CALSCALE:GREGORIAN
METHOD:PUBLISH
X-ORIGINAL-URL:https://www.teachingandlearning.ie
X-WR-CALDESC:Events for National Forum for the Enhancement of Teaching and Learning in Higher Education
REFRESH-INTERVAL;VALUE=DURATION:PT1H
X-Robots-Tag:noindex
X-PUBLISHED-TTL:PT1H
BEGIN:VTIMEZONE
TZID:UTC
BEGIN:STANDARD
TZOFFSETFROM:+0000
TZOFFSETTO:+0000
TZNAME:UTC
DTSTART:20200101T000000
END:STANDARD
END:VTIMEZONE
BEGIN:VEVENT
DTSTART;VALUE=DATE:20210112
DTEND;VALUE=DATE:20210113
DTSTAMP:20260423T012415
CREATED:20200921T154143Z
LAST-MODIFIED:20201109T154541Z
UID:42393-1610409600-1610495999@www.teachingandlearning.ie
SUMMARY:Relational Pedagogy and Whole-class Engagement - Can it Really be Done?!
DESCRIPTION:Learning Objectives\n• Understand and explore the concept of relational pedagogy in a face-to-face and online environment\n• Reflect on how your own experience in ‘whole-class’ engagement practices contributes to an engaged learning environment\n• Consider how our own understandings and definitions of student engagement\, partnership and co-creation impact our professional practice\n• Identify and plan the practical/impactful methods/approaches that could be implemented in learning environments to support a whole-class resulting in a more inclusive experience for all students
URL:https://www.teachingandlearning.ie/event/relational-pedagogy-and-whole-class-engagement-can-it-really-be-done/
LOCATION:Cork Institute of Technology\, Ireland
CATEGORIES:Cork,Cork Institute of Technology,NSS 20/21,Student Success,The Professional Development of All Those Who Teach
ATTACH;FMTTYPE=image/jpeg:https://www.teachingandlearning.ie/wp-content/uploads/CIT-1000x500.jpg
ORGANIZER;CN="William Carey":MAILTO:william.carey@cit.ie
GEO:51.8968917;-8.4863157
END:VEVENT
BEGIN:VEVENT
DTSTART;VALUE=DATE:20210129
DTEND;VALUE=DATE:20210130
DTSTAMP:20260423T012415
CREATED:20200921T152758Z
LAST-MODIFIED:20210104T133611Z
UID:42374-1611878400-1611964799@www.teachingandlearning.ie
SUMMARY:Exploring Ways to Embed the Sustainable Development Goals into the Curriculum
DESCRIPTION:Learning Objectives\n• Introduce the Sustainable Development Goals (SDGs) and their applicability in a Higher Education context\n• Critically evaluate how Higher Education Institutes can advance and lead the implementation of the SDGs\n• Explore the synergies between existing sustainability initiatives e.g. Green Campus\, Health Campus programmes\, community engagement etc.\, and the SDGs\n• Explore opportunities to embed the SDGs across the curriculum and beyond
URL:https://www.teachingandlearning.ie/event/exploring-ways-to-embed-the-sustainable-development-goals-into-the-curriculum/
LOCATION:Galway-Mayo Institute of Technology \, Ireland
CATEGORIES:Galway,Galway-Mayo Institute of Technology,NSS 20/21,Teaching and Learning Enhancement Within and Across Disciplines,The Professional Development of All Those Who Teach
ATTACH;FMTTYPE=image/jpeg:https://www.teachingandlearning.ie/wp-content/uploads/GMIT-1000x500.jpg
ORGANIZER;CN="Mark Kelly":MAILTO:Mark.Kelly@gmit.ie
END:VEVENT
END:VCALENDAR