BEGIN:VCALENDAR
VERSION:2.0
PRODID:-//National Forum for the Enhancement of Teaching and Learning in Higher Education - ECPv6.15.17.1//NONSGML v1.0//EN
CALSCALE:GREGORIAN
METHOD:PUBLISH
X-ORIGINAL-URL:https://www.teachingandlearning.ie
X-WR-CALDESC:Events for National Forum for the Enhancement of Teaching and Learning in Higher Education
REFRESH-INTERVAL;VALUE=DURATION:PT1H
X-Robots-Tag:noindex
X-PUBLISHED-TTL:PT1H
BEGIN:VTIMEZONE
TZID:UTC
BEGIN:STANDARD
TZOFFSETFROM:+0000
TZOFFSETTO:+0000
TZNAME:UTC
DTSTART:20190101T000000
END:STANDARD
END:VTIMEZONE
BEGIN:VEVENT
DTSTART;TZID=UTC:20200207T110000
DTEND;TZID=UTC:20200207T110000
DTSTAMP:20260423T204452
CREATED:20190903T022331Z
LAST-MODIFIED:20190909T074459Z
UID:32373-1581073200-1581073200@www.teachingandlearning.ie
SUMMARY:Beyond the Textbook: Using Learning Resources for Open Educational Practice
DESCRIPTION:Learning Outcomes\n\nEvaluation of participant’s own approaches to the design and delivery of learning\nEmbedding digital and information literacy into participant’s curriculum in practical ways\nEvaluation of potential educational resources for open educational practice
URL:https://www.teachingandlearning.ie/event/beyond-the-textbook-using-learning-resources-for-open-educational-practice/
LOCATION:Dublin City University\, Dublin\, Ireland
CATEGORIES:Dublin,Dublin City University,National Seminar Series 2019/20,Teaching and Learning in a Digital World,The Professional Development of All Those Who Teach
ATTACH;FMTTYPE=image/jpeg:https://www.teachingandlearning.ie/wp-content/uploads/DCU-1000x500.jpg
ORGANIZER;CN="Noeleen O'Keeffe":MAILTO:noeleen.okeeffe@dcu.ie
GEO:53.3498053;-6.2603097
END:VEVENT
BEGIN:VEVENT
DTSTART;TZID=UTC:20200212T140000
DTEND;TZID=UTC:20200212T170000
DTSTAMP:20260423T204452
CREATED:20190903T022437Z
LAST-MODIFIED:20200109T135442Z
UID:32376-1581516000-1581526800@www.teachingandlearning.ie
SUMMARY:"If Competency is the Answer…Have we Asked the Right Question(s)?"
DESCRIPTION:Learning Outcomes\n\nDiscuss a range of different perspectives on ‘competency’\nDiscuss the construct of personal development as a core competency\nExplain the principles of emotional intelligence as a tool for enhancing self understanding\nExplain how emotional intelligence ‘style’ influences personal and professional behaviours and outcomes\nDiscuss the principles of effective conflict management and resolution and discuss how one’s own personal conflict management style may serve as a barrier and/or a facilitator to more effective interpersonal relationships
URL:https://www.teachingandlearning.ie/event/if-competency-is-the-answerhave-we-asked-the-right-questions/
LOCATION:Trinity College Dublin\, Ireland
CATEGORIES:Dublin,National Seminar Series 2019/20,The Professional Development of All Those Who Teach,Trinity College Dublin
ATTACH;FMTTYPE=image/jpeg:https://www.teachingandlearning.ie/wp-content/uploads/TCD-1000x500.jpg
ORGANIZER;CN="Cicely Roche":MAILTO:rocheci@tcd.ie
GEO:53.3498053;-6.2603097
END:VEVENT
BEGIN:VEVENT
DTSTART;TZID=UTC:20200220T093000
DTEND;TZID=UTC:20200220T133000
DTSTAMP:20260423T204452
CREATED:20190903T021845Z
LAST-MODIFIED:20191220T101127Z
UID:32369-1582191000-1582205400@www.teachingandlearning.ie
SUMMARY:Exploring Competency Based Education; A Lexis for Collaborative Curriculum Design Incorporating Staff\, Students and Professionals
DESCRIPTION:Learning Outcomes\n\nDefine what is Competency Based Education (CBE)\nEvaluate the benefits and challenges of Competency Based Education in HE\nExplore how CBE can create dialog between students\, staff and professional organisations\nExplore how to transition a programme to CBE\nEvaluate how to integrate learners and professional organisations into collaborative curriculum design using competency based frameworks
URL:https://www.teachingandlearning.ie/event/exploring-competency-based-education-a-lexis-for-collaborative-curriculum-design-incorporating-staff-students-and-professionals/
LOCATION:Mary Immaculate College\, Ireland
CATEGORIES:Limerick,Mary Immaculate College,National Seminar Series 2019/20,The Professional Development of All Those Who Teach
ATTACH;FMTTYPE=image/jpeg:https://www.teachingandlearning.ie/wp-content/uploads/Mary-Immaculate-College-1000x500.jpg
ORGANIZER;CN="Emma  O'Brien":MAILTO:emma.obrien@mic.ul.ie
GEO:52.6680204;-8.6304975
END:VEVENT
END:VCALENDAR