BEGIN:VCALENDAR
VERSION:2.0
PRODID:-//National Forum for the Enhancement of Teaching and Learning in Higher Education - ECPv6.15.17.1//NONSGML v1.0//EN
CALSCALE:GREGORIAN
METHOD:PUBLISH
X-ORIGINAL-URL:https://www.teachingandlearning.ie
X-WR-CALDESC:Events for National Forum for the Enhancement of Teaching and Learning in Higher Education
REFRESH-INTERVAL;VALUE=DURATION:PT1H
X-Robots-Tag:noindex
X-PUBLISHED-TTL:PT1H
BEGIN:VTIMEZONE
TZID:UTC
BEGIN:STANDARD
TZOFFSETFROM:+0000
TZOFFSETTO:+0000
TZNAME:UTC
DTSTART:20180101T000000
END:STANDARD
END:VTIMEZONE
BEGIN:VEVENT
DTSTART;VALUE=DATE:20191106
DTEND;VALUE=DATE:20191107
DTSTAMP:20260424T012746
CREATED:20190903T015629Z
LAST-MODIFIED:20190927T110534Z
UID:32346-1572998400-1573084799@www.teachingandlearning.ie
SUMMARY:Promoting Inclusivity through Universal Design for Learning
DESCRIPTION:Learning Outcomes\n\nIdentify and understand the principles of Universal Design for Learning (UDL)\nDiscuss the advantages of applying UDL in third level education\nEvaluate approaches to UDL taken in other institutions and note successes and challenges in implementing UDL principles in different settings\nApply UDL principles in their own practice to promote and implement an inclusive teaching and learning environment
URL:https://www.teachingandlearning.ie/event/promoting-inclusivity-through-universal-design-for-learning/
CATEGORIES:Limerick,National Seminar Series 2019/20,The Professional Development of All Those Who Teach,University of Limerick
ATTACH;FMTTYPE=image/jpeg:https://www.teachingandlearning.ie/wp-content/uploads/in-university-limerick-07f235da250f7e91b92e6854ac42fdfa.jpg
ORGANIZER;CN="Lydia Bracken":MAILTO:lydia.bracken@ul.ie
END:VEVENT
BEGIN:VEVENT
DTSTART;TZID=UTC:20191108T093000
DTEND;TZID=UTC:20191108T133000
DTSTAMP:20260424T012746
CREATED:20190906T143441Z
LAST-MODIFIED:20191017T115238Z
UID:32716-1573205400-1573219800@www.teachingandlearning.ie
SUMMARY:Exploring the Role of Higher Education in Supporting the Emerging Social Enterprise Sector
DESCRIPTION:Learning Outcomes: \n\nDiscuss the growing importance of social enterprise to the Irish economy\nDebate the role of HEIs in the development\, recognition and legitimacy of the social enterprise sector through curriculum development and other teaching and learning initiatives\nAssess the scope for HEIs partnering with Social Enterprises on curriculum-related projects e.g.\, applied undergraduate and postgraduate project work\, case studies of local and regional social enterprises etc.\nExplore how HEIs can build the capacity of people already working within the social enterprise sector\nCreate a community of practice for HEI staff with a remit or interest and/or engaged in social enterprise
URL:https://www.teachingandlearning.ie/event/exploring-the-role-of-higher-education-in-supporting-the-emerging-social-enterprise-sector/
LOCATION:Waterford Institute of Technology\, Ireland
CATEGORIES:National Seminar Series 2019/20,NSS 2019/2020,The Professional Development of All Those Who Teach,Waterford,Waterford Institute of Technology
ATTACH;FMTTYPE=image/jpeg:https://www.teachingandlearning.ie/wp-content/uploads/WIT-1000x500.jpg
ORGANIZER;CN="Dr Mary Fenton":MAILTO:mfenton@wit.ie
GEO:52.256667;-7.129167
END:VEVENT
BEGIN:VEVENT
DTSTART;TZID=UTC:20191108T094500
DTEND;TZID=UTC:20191108T153000
DTSTAMP:20260424T012746
CREATED:20190903T020040Z
LAST-MODIFIED:20191104T100845Z
UID:32350-1573206300-1573227000@www.teachingandlearning.ie
SUMMARY:Nurturing our Ethical Sensibilities as Learners\, Teachers\, Researches and Supervisors
DESCRIPTION:Learning Outcomes\n\nTo share good practice on how we nurture our own and our students’ ethical sensibilities\nTo acquire skills of reflection and practical tools for ethical thinking\, reflection and analysis useful for our fields of teaching\, research and student support\nTo explore understanding of the ‘every day’ ethics generated by different kinds of research\, much of which does not require ethical review\nTo appreciate the ethical challenges posed by emerging kinds of research including technologically based research methodologies\, ethical leadership and decision making\, big data mining etc\nTo explore and discuss diverse ethical frameworks\, which can better enable us to assess the ethics of new practices of research inquiry
URL:https://www.teachingandlearning.ie/event/nurturing-our-ethical-sensibilities-as-learners-teachers-researches-and-supervisors/
LOCATION:University College Cork\, Ireland
CATEGORIES:Cork,National Seminar Series 2019/20,The Professional Development of All Those Who Teach,University College Cork
ATTACH;FMTTYPE=image/jpeg:https://www.teachingandlearning.ie/wp-content/uploads/UCC-1000x500.jpg
ORGANIZER;CN="Elizabeth Kiely":MAILTO:e.kiely@ucc.ie
END:VEVENT
BEGIN:VEVENT
DTSTART;TZID=UTC:20191127T100000
DTEND;TZID=UTC:20191127T150000
DTSTAMP:20260424T012746
CREATED:20190923T084140Z
LAST-MODIFIED:20191018T121917Z
UID:33219-1574848800-1574866800@www.teachingandlearning.ie
SUMMARY:Religions and Beliefs in Changing Times (RBCT): Responses to Religious Belief Diversity in Educational Settings in the Republic of Ireland
DESCRIPTION:Learning Outcomes: \n\nLearn how to use innovative methodologies and new approaches\, e.g. belief circles\, to explore personal beliefs (philosophical\, secular\, religious\, spiritual\, financial and political)\nExplore how to bring “beliefs” into educational spaces in a safe\, learning environment whereby students are not humiliated\, marginalised or excluded by expressing their beliefs\nEngage with the discomfort or reluctance that sometimes arises when addressing questions about a range of beliefs and values\, particularly in classrooms\nInform professional practice and gain insight on how to encourage students to engage in practices of listening and dialogue\, without imposing or requiring consensus or agreement\nReflect on the use of creative\, engaging and experiential approaches to pedagogy and education that seek to put the voices of children and young people at the heart of their practice
URL:https://www.teachingandlearning.ie/event/religions-and-beliefs-in-changing-times-rbct-responses-to-religious-belief-diversity-in-educational-settings-in-the-republic-of-ireland/
LOCATION:Mary Immaculate College\, Ireland
CATEGORIES:Limerick,Mary Immaculate College,National Seminar Series 2019/20,The Professional Development of All Those Who Teach
ATTACH;FMTTYPE=image/jpeg:https://www.teachingandlearning.ie/wp-content/uploads/Mary-Immaculate-College-1000x500.jpg
ORGANIZER;CN="Anne  Ryan":MAILTO:anne.ryan@mic.ul.ie
GEO:52.6680204;-8.6304975
END:VEVENT
END:VCALENDAR