BEGIN:VCALENDAR
VERSION:2.0
PRODID:-//National Forum for the Enhancement of Teaching and Learning in Higher Education - ECPv6.15.17.1//NONSGML v1.0//EN
CALSCALE:GREGORIAN
METHOD:PUBLISH
X-ORIGINAL-URL:https://www.teachingandlearning.ie
X-WR-CALDESC:Events for National Forum for the Enhancement of Teaching and Learning in Higher Education
REFRESH-INTERVAL;VALUE=DURATION:PT1H
X-Robots-Tag:noindex
X-PUBLISHED-TTL:PT1H
BEGIN:VTIMEZONE
TZID:UTC
BEGIN:STANDARD
TZOFFSETFROM:+0000
TZOFFSETTO:+0000
TZNAME:UTC
DTSTART:20190101T000000
END:STANDARD
END:VTIMEZONE
BEGIN:VEVENT
DTSTART;TZID=UTC:20200108T100000
DTEND;TZID=UTC:20200108T160000
DTSTAMP:20260422T010508
CREATED:20190903T021557Z
LAST-MODIFIED:20191121T103936Z
UID:32364-1578477600-1578499200@www.teachingandlearning.ie
SUMMARY:How Good Conflict Can Develop Creative Learning Communities
DESCRIPTION:Learning Outcomes\n\nUnderstand the nature and importance of conflict in developing creative learning communities\nBe familiar with the Thomas Kilmann Conflict Mode Instrument\nBecome more aware of your own preferred approach mode\nExplore and practice alternative conflict modes with peers\nExamine how different approaches to conflict can be harnessed to improve the learning environment for students and for lecturers
URL:https://www.teachingandlearning.ie/event/how-good-conflict-can-develop-creative-learning-communities/
LOCATION:Cork Institute of Technology\, Ireland
CATEGORIES:Cork,Cork Institute of Technology,National Seminar Series 2019/20,Teaching and Learning Enhancement Within and Across Disciplines,The Professional Development of All Those Who Teach
ATTACH;FMTTYPE=image/jpeg:https://www.teachingandlearning.ie/wp-content/uploads/CIT-1000x500.jpg
ORGANIZER;CN="Marese Bermingham":MAILTO:Marese.bermingham@cit.ie
GEO:51.8968917;-8.4863157
END:VEVENT
BEGIN:VEVENT
DTSTART;TZID=UTC:20200130T093000
DTEND;TZID=UTC:20200130T093000
DTSTAMP:20260422T010508
CREATED:20190903T021202Z
LAST-MODIFIED:20191219T092034Z
UID:32361-1580376600-1580376600@www.teachingandlearning.ie
SUMMARY:Assessing Your Stress - Connecting Wellbeing and Assessment
DESCRIPTION:Learning Outcomes\n\nDescribe and understand the common factors around assessment that negatively impact on lecturers’ and students’ wellbeing\nIdentify approaches and strategies to mitigate these factors and to enhance lecturers’ and students’ wellbeing in the context of assessment\nPerform actions to attend to one’s own wellbeing and that of students in the context of assessment\nPlan and implement practical steps to enhance one’s own assessment practices to ensure good wellbeing
URL:https://www.teachingandlearning.ie/event/assessing-your-stress-connecting-wellbeing-and-assessment/
LOCATION:Dublin City University\, Dublin\, Ireland
CATEGORIES:Dublin,Dublin City University,National Seminar Series 2019/20,Teaching and Learning Enhancement Within and Across Disciplines
ATTACH;FMTTYPE=image/jpeg:https://www.teachingandlearning.ie/wp-content/uploads/DCU-1000x500.jpg
ORGANIZER;CN="Rob Lowney":MAILTO:rob.lowney@dcu.ie
GEO:53.3498053;-6.2603097
END:VEVENT
BEGIN:VEVENT
DTSTART;TZID=UTC:20200131T100000
DTEND;TZID=UTC:20200131T130000
DTSTAMP:20260422T010508
CREATED:20190903T021912Z
LAST-MODIFIED:20200117T105156Z
UID:32370-1580464800-1580475600@www.teachingandlearning.ie
SUMMARY:BOLD Creativity: Visual Literacy and Student Engagement
DESCRIPTION:Learning Outcomes\n\nDevelop an understanding of the impact of visual literacy\nDevelop an appreciation of active learning methodologies in creating meaningful learning experiences\nApply creative approaches to teaching\, learning and assessment to enhance student engagement
URL:https://www.teachingandlearning.ie/event/bold-creativity-visual-literacy-and-student-engagement/
LOCATION:Waterford Institute of Technology\, Ireland
CATEGORIES:National Seminar Series 2019/20,Teaching and Learning Enhancement Within and Across Disciplines,Teaching and Learning in a Digital World,The Professional Development of All Those Who Teach,Waterford,Waterford Institute of Technology
ATTACH;FMTTYPE=image/jpeg:https://www.teachingandlearning.ie/wp-content/uploads/WIT-1000x500.jpg
ORGANIZER;CN="Hazel Farrell":MAILTO:hfarrell@wit.ie
GEO:52.256667;-7.129167
END:VEVENT
END:VCALENDAR