BEGIN:VCALENDAR
VERSION:2.0
PRODID:-//National Forum for the Enhancement of Teaching and Learning in Higher Education - ECPv6.15.17.1//NONSGML v1.0//EN
CALSCALE:GREGORIAN
METHOD:PUBLISH
X-ORIGINAL-URL:https://www.teachingandlearning.ie
X-WR-CALDESC:Events for National Forum for the Enhancement of Teaching and Learning in Higher Education
REFRESH-INTERVAL;VALUE=DURATION:PT1H
X-Robots-Tag:noindex
X-PUBLISHED-TTL:PT1H
BEGIN:VTIMEZONE
TZID:UTC
BEGIN:STANDARD
TZOFFSETFROM:+0000
TZOFFSETTO:+0000
TZNAME:UTC
DTSTART:20180101T000000
END:STANDARD
END:VTIMEZONE
BEGIN:VEVENT
DTSTART;VALUE=DATE:20191003
DTEND;VALUE=DATE:20191004
DTSTAMP:20260422T062206
CREATED:20190903T012700Z
LAST-MODIFIED:20190906T104533Z
UID:32333-1570060800-1570147199@www.teachingandlearning.ie
SUMMARY:Imagining the Future of GMIT as a Sustainable Community of Practice
DESCRIPTION:Learning Outcomes\n\nExplore innovative methods of community engagement for transiting towards a low carbon climate\nresilient future including: citizen juries; technical scenario analysis and modelling; community visioning; living labs; and participatory mapping\nInform the design and development of a democratic sustainability methodology to identify and embed education for sustainability initiatives across all programmes in GMIT as part of 2019/2020 programme review\nCritically analyse a dialogue to action process where staff\, students and community stakeholders will co-define\, co-design and co-create sustainability learning opportunities (revised learning outcomes\, updated curriculum content\, re-imagined assessment and innovative place-based pedagogy) that will be piloted across selected programmes during the 2019/2020 academic year
URL:https://www.teachingandlearning.ie/event/imagining-the-future-of-gmit-as-a-sustainable-community-of-practice/
LOCATION:Galway-Mayo Institute of Technology\, Dublin Road Campus\, Ireland
CATEGORIES:Galway,Galway-Mayo Institute of Technology,National Seminar Series 2019/20,Student Success,Teaching and Learning Enhancement Within and Across Disciplines,The Professional Development of All Those Who Teach
ATTACH;FMTTYPE=image/jpeg:https://www.teachingandlearning.ie/wp-content/uploads/GMIT-1000x500.jpg
ORGANIZER;CN="Mark Kelly":MAILTO:Mark.Kelly@gmit.ie
END:VEVENT
BEGIN:VEVENT
DTSTART;TZID=UTC:20191029T100000
DTEND;TZID=UTC:20191029T160000
DTSTAMP:20260422T062206
CREATED:20190903T015514Z
LAST-MODIFIED:20191021T114737Z
UID:32344-1572343200-1572364800@www.teachingandlearning.ie
SUMMARY:Infusing Critical Thinking into Undergraduate Business Programmes
DESCRIPTION:Learning Outcomes\n\nExplore the relationship between critical thinking\, reflective practice and writing\nShare experiences of critical thinking in action across business disciplines\nDevelop ideas for infusing critical thinking into the undergraduate Business curriculum and learn how to integrate it into classroom and online teaching\nApply critical thinking in the process of programme level assessment\nAppraise the scholarship supporting this necessary skill
URL:https://www.teachingandlearning.ie/event/infusing-critical-thinking-into-undergraduate-business-programmes/
LOCATION:TU Dublin\, City Campus\, Ireland
CATEGORIES:City Campus,Dublin,National Seminar Series 2019/20,Teaching and Learning Enhancement Within and Across Disciplines,TU Dublin,TU Dublin
ATTACH;FMTTYPE=image/jpeg:https://www.teachingandlearning.ie/wp-content/uploads/DIT-1000x500.jpg
ORGANIZER;CN="Roisin Donnelly":MAILTO:Roisin.Donnelly@TUDublin.ie
END:VEVENT
BEGIN:VEVENT
DTSTART;TZID=UTC:20191031T100000
DTEND;TZID=UTC:20191031T100000
DTSTAMP:20260422T062206
CREATED:20190903T025229Z
LAST-MODIFIED:20191016T100824Z
UID:32402-1572516000-1572516000@www.teachingandlearning.ie
SUMMARY:Assessment and Feedback at the Module and Programme Level
DESCRIPTION:Learning Outcomes\n\nIdentify key concepts underpinning Programme\nFocused Assessment (PFA) that draw upon key findings/recommendations from the UK TESTA project www.testa.ac.uk and the TU Dublin LEAF Teaching Fellowship (Leading Enhancement of Assessment & Feedback)\nReview and rethink programme based assessment and Feedback strategies at institutional\, programme and module level\, taking into account current research findings within the context of existing institutional subject disciplinary practices\nIdentify key assessment and/or feedback challenges/issues as a collaborative enterprise and work together to develop a sustainable assessment enhancement action plan that is appropriate for the needs within their subject discipline and across a programme\nContribute to institutional strategies that focus on developing a methodology to support programmes/departments/schools to enhance assessment and feedback at a programme level
URL:https://www.teachingandlearning.ie/event/assessment-and-feedback-at-the-module-and-programme-level/
LOCATION:TU Dublin\, City Campus\, Ireland
CATEGORIES:City Campus,National Seminar Series 2019/20,Student Success,Teaching and Learning Enhancement Within and Across Disciplines,The Professional Development of All Those Who Teach,TU Dublin,TU Dublin
ATTACH;FMTTYPE=image/jpeg:https://www.teachingandlearning.ie/wp-content/uploads/DIT-1000x500.jpg
ORGANIZER;CN="Jen Harvey":MAILTO:jen.harvey@dit.ie
END:VEVENT
END:VCALENDAR