BEGIN:VCALENDAR
VERSION:2.0
PRODID:-//National Forum for the Enhancement of Teaching and Learning in Higher Education - ECPv6.15.17.1//NONSGML v1.0//EN
CALSCALE:GREGORIAN
METHOD:PUBLISH
X-ORIGINAL-URL:https://www.teachingandlearning.ie
X-WR-CALDESC:Events for National Forum for the Enhancement of Teaching and Learning in Higher Education
REFRESH-INTERVAL;VALUE=DURATION:PT1H
X-Robots-Tag:noindex
X-PUBLISHED-TTL:PT1H
BEGIN:VTIMEZONE
TZID:UTC
BEGIN:STANDARD
TZOFFSETFROM:+0000
TZOFFSETTO:+0000
TZNAME:UTC
DTSTART:20200101T000000
END:STANDARD
END:VTIMEZONE
BEGIN:VEVENT
DTSTART;TZID=UTC:20210603T110000
DTEND;TZID=UTC:20210603T130000
DTSTAMP:20260421T205312
CREATED:20210527T072046Z
LAST-MODIFIED:20210528T215323Z
UID:45269-1622718000-1622725200@www.teachingandlearning.ie
SUMMARY:Demystifying research writing
DESCRIPTION:Learning Objectives\nAt the end of this session\, students will be able to:  \n\nReflect upon ways of developing complex\, conceptual\, critical\, clever and confident research writing\nIdentify the characteristics of confident\, critical writing\nApply strategies for refining their writing
URL:https://www.teachingandlearning.ie/event/demystifying-research-writing/
CATEGORIES:Carlow Institute of Technology,NSS 20/21,Supporting Student Success in and through Higher Education,Teaching and Learning Enhancement Within and Across Disciplines,Teaching and Learning in a Digital World
ATTACH;FMTTYPE=image/jpeg:https://www.teachingandlearning.ie/wp-content/uploads/Education_The-Barrow-Centre-Carlow-IT-1.jpg
ORGANIZER;CN="Niamh McCrea":MAILTO:niamh.mccrea@itcarlow.ie
END:VEVENT
BEGIN:VEVENT
DTSTART;TZID=UTC:20210609T100000
DTEND;TZID=UTC:20210609T143000
DTSTAMP:20260421T205312
CREATED:20200921T153536Z
LAST-MODIFIED:20210407T093449Z
UID:42384-1623232800-1623249000@www.teachingandlearning.ie
SUMMARY:Múineadh na Gaeilge ar an tríú leibhéal
DESCRIPTION:Learning Objectives\n• Iniúchadh a dhéanamh ar mhódhanna múinte na Gaeilge ar an tríú leibhéal\n• Anailís a dhéanamh ar na modhanna is oiriúnaí do scileanna éagsúla teanga (labhairt\, éisteacht\, léamh agus scríobh)\n• Deis a thabhairt do na rannpháiritithe machnamh a dhéanamh ar a dtaithí agus ar a straitéisí féin\n• Nasc a dhéanamh idir múineadh na Gaeilge ar an tríú leibhéal agus an Fráma Tagartha Comónta Eorpach do Theangacha\n*This event was deferred from the 2019/20 National Seminar Series
URL:https://www.teachingandlearning.ie/event/muineadh-na-gaeilge-ar-an-triu-leibheal-2/
LOCATION:Waterford Institute of Technology\, Ireland
CATEGORIES:NSS 20/21,Teaching and Learning Enhancement Within and Across Disciplines,Waterford,Waterford Institute of Technology
ATTACH;FMTTYPE=image/jpeg:https://www.teachingandlearning.ie/wp-content/uploads/WIT-1000x500.jpg
ORGANIZER;CN="S%C3%A9amus Dillon":MAILTO:sdillon@wit.ie
GEO:52.256667;-7.129167
END:VEVENT
BEGIN:VEVENT
DTSTART;VALUE=DATE:20210610
DTEND;VALUE=DATE:20210611
DTSTAMP:20260421T205312
CREATED:20200921T155556Z
LAST-MODIFIED:20200923T112314Z
UID:42401-1623283200-1623369599@www.teachingandlearning.ie
SUMMARY:Successful Transitions to Employment for Nursing Students who have a Disability
DESCRIPTION:Learning Objectives\n• Understand the importance of maintaining mental wellbeing while studying to be a nurse or midwife\n• Provide flexibility in accommodating students on work placements – the ‘what’ versus ‘how’ \n• Understand that students learn in different ways through the application of the principles of universal design \n• Enable students who disclose their disability to successfully transition to employment and reach their full potential as a nurse or midwife
URL:https://www.teachingandlearning.ie/event/successful-transitions-to-employment-for-nursing-students-who-have-a-disability/
LOCATION:University College Dublin\, Ireland
CATEGORIES:Dublin,NSS 20/21,Student Success,University College Dublin
ATTACH;FMTTYPE=image/jpeg:https://www.teachingandlearning.ie/wp-content/uploads/UCD-1000x500.jpg
GEO:53.3498053;-6.2603097
END:VEVENT
BEGIN:VEVENT
DTSTART;TZID=UTC:20210610T093000
DTEND;TZID=UTC:20210610T123000
DTSTAMP:20260421T205312
CREATED:20200921T160421Z
LAST-MODIFIED:20210407T093628Z
UID:42413-1623317400-1623328200@www.teachingandlearning.ie
SUMMARY:The CEFR in Language Teaching
DESCRIPTION:Learning Objectives\n• Consider the benefits of the Common European Framework of Reference (CEFR) for languages in language teaching and learning\n• Assess the potential and the benefits of the CEFR in teaching languages\n• Reflect on the lecturer’s/teacher’s own language teaching practices in light of the CEFR\n• Share good practice and experience in using the CEFR in teaching and learning\n• Explore the benefits of the CEFR in student engagement\n*This event was deferred from the 2019/20 National Seminar Series
URL:https://www.teachingandlearning.ie/event/the-cefr-in-language-teaching-2/
LOCATION:Waterford Institute of Technology\, Ireland
CATEGORIES:NSS 20/21,Teaching and Learning Enhancement Within and Across Disciplines,Waterford,Waterford Institute of Technology
ATTACH;FMTTYPE=image/jpeg:https://www.teachingandlearning.ie/wp-content/uploads/WIT-1000x500.jpg
ORGANIZER;CN="S%C3%A9amus Dillon":MAILTO:sdillon@wit.ie
GEO:52.256667;-7.129167
END:VEVENT
BEGIN:VEVENT
DTSTART;VALUE=DATE:20210615
DTEND;VALUE=DATE:20210616
DTSTAMP:20260421T205312
CREATED:20200921T144247Z
LAST-MODIFIED:20200923T112248Z
UID:42330-1623715200-1623801599@www.teachingandlearning.ie
SUMMARY:Accomplishing Change in Teaching and Learning Regimes
DESCRIPTION:Learning Objectives\n• To facilitate participants’ understandings of their own contexts of teaching and learning as a nexus of practices situated in a teaching and learning regime\n• To enhance participants’ skills as change agents by developing their practice sensibilities\n• To configure enhancement aspirations into a realistic appreciation of effective implementation processes\, particularly in the areas of student engagement and blended/online teaching and learning processes\n• To take into account the significance of disciplinary context in relation to the above\n*This event was deferred from the 2019/20 National Seminar Series
URL:https://www.teachingandlearning.ie/event/accomplishing-change-in-teaching-and-learning-regimes-2/
LOCATION:Athlone Institute of Technology\, Ireland
CATEGORIES:Athlone Institute of Technology,NSS 20/21,Teaching and Learning Enhancement Within and Across Disciplines,Westmeath
ATTACH;FMTTYPE=image/jpeg:https://www.teachingandlearning.ie/wp-content/uploads/AIT-1000x500.jpg
GEO:53.41291;-8.24389
END:VEVENT
BEGIN:VEVENT
DTSTART;VALUE=DATE:20210615
DTEND;VALUE=DATE:20210616
DTSTAMP:20260421T205312
CREATED:20200921T152848Z
LAST-MODIFIED:20210511T125911Z
UID:42373-1623715200-1623801599@www.teachingandlearning.ie
SUMMARY:Exploring the Role of Contemplative Pedagogy in Inspiring Education Practice and Student Engagement - Educator and Student Perspectives
DESCRIPTION:Learning Objectives\n• Appraise a variety of ways in which contemplative pedagogy can be introduced into the classroom to initiate and sustain enquiry\, promote creative and engaged student learning and the exploration of interiority and nurturing wholeness to foster a sense of student wellbeing\n• Engage with contemplative methods and explore possible practical applications within subject areas\n• Differentiate between current pedagogy and the potential of contemplative pedagogy in Higher Education from the educator’s perspective\n• Appreciate the role of contemplative pedagogy in the life and learning of the student/graduate including their interaction with challenges in modern society\, industry or their work community\n• Connect with educators from various disciplines\, who are using this pedagogy in their subject area and promote collaboration\n*This event was deferred from the 2019/20 National Seminar Series
URL:https://www.teachingandlearning.ie/event/exploring-the-role-of-contemplative-pedagogy-in-inspiring-education-practice-and-student-engagement-educator-and-student-perspectives-2/
CATEGORIES:Dublin,NSS 20/21,Teaching and Learning Enhancement Within and Across Disciplines,Technological University Dublin
ATTACH;FMTTYPE=image/jpeg:https://www.teachingandlearning.ie/wp-content/uploads/DIT-640x480.jpg
ORGANIZER;CN="Annette Sweeney":MAILTO:annette.sweeney@tudublin.ie
END:VEVENT
BEGIN:VEVENT
DTSTART;TZID=UTC:20210615T120000
DTEND;TZID=UTC:20210615T133000
DTSTAMP:20260421T205312
CREATED:20200921T144921Z
LAST-MODIFIED:20210517T082137Z
UID:42340-1623758400-1623763800@www.teachingandlearning.ie
SUMMARY:Cohort-based PhD Programmes in Ireland: Reflections\, Learnings\, and the Future
DESCRIPTION:Learning Objectives\n• Understand the unique characteristics of cohort-based PhD programmes\n• Implement best-practice in cohort-based PhD training\n• Contribute to the design of cohort-based PhD programmes\n• Add to the conversation around student success in cohort-based PhD learning
URL:https://www.teachingandlearning.ie/event/cohort-based-phd-programmes-in-ireland-reflections-learnings-and-the-future/
LOCATION:University College Dublin\, Ireland
CATEGORIES:Dublin,NSS 20/21,Student Success,University College Dublin
ATTACH;FMTTYPE=image/jpeg:https://www.teachingandlearning.ie/wp-content/uploads/UCD-1000x500.jpg
ORGANIZER;CN="Antonella Ferrecchia":MAILTO:antonella.ferrecchia@ucd.ie
GEO:53.3498053;-6.2603097
END:VEVENT
BEGIN:VEVENT
DTSTART;TZID=UTC:20210617T090000
DTEND;TZID=UTC:20210617T130000
DTSTAMP:20260421T205312
CREATED:20200921T155319Z
LAST-MODIFIED:20210609T071715Z
UID:42398-1623920400-1623934800@www.teachingandlearning.ie
SUMMARY:Showcasing a Tiered Public Health Occupational Therapy Approach to Supporting Student Participation\, Health\, Wellbeing and Success in Higher Education
DESCRIPTION:Learning Objectives\n• Understand the role of occupational therapists in higher education settings\n• Understand the Healthy Campus Charter\n• Understand the tiered public health occupational therapy approach to supporting student participation\, health\, wellbeing and success\n*This event was deferred from the 2019/20 National Seminar Series
URL:https://www.teachingandlearning.ie/event/showcasing-a-tiered-public-health-occupational-therapy-approach-to-supporting-student-participation-health-wellbeing-and-success-in-higher-education-2/
LOCATION:University College Cork\, Ireland
CATEGORIES:Cork,NSS 20/21,Student Success,University College Cork
ATTACH;FMTTYPE=image/jpeg:https://www.teachingandlearning.ie/wp-content/uploads/UCC-1000x500.jpg
ORGANIZER;CN="Eithne Hunt":MAILTO:e.hunt@ucc.ie
END:VEVENT
BEGIN:VEVENT
DTSTART;TZID=UTC:20210622T100000
DTEND;TZID=UTC:20210622T130000
DTSTAMP:20260421T205312
CREATED:20200921T154113Z
LAST-MODIFIED:20210506T065431Z
UID:42392-1624356000-1624366800@www.teachingandlearning.ie
SUMMARY:Re-imagining Impact as Evidencing Value in Teaching and Learning
DESCRIPTION:Learning Objectives\n\nDiscuss the value of developmental activities within the wider context\nConduct a benefit/loss analysis of the activities\nIdentify both intended and unintended consequences of educational and/or professional development\nPlan for future developments to increase value and recognition of educational development
URL:https://www.teachingandlearning.ie/event/re-imagining-impact-as-evidencing-value-in-teaching-and-learning/
LOCATION:University of Limerick\, Ireland
CATEGORIES:Limerick,NSS 20/21,The Professional Development of All Those Who Teach,University of Limerick
ATTACH;FMTTYPE=image/jpeg:https://www.teachingandlearning.ie/wp-content/uploads/in-university-limerick-07f235da250f7e91b92e6854ac42fdfa.jpg
ORGANIZER;CN="Dr Mary Fitzpatrick":MAILTO:Mary.Fitzpatrick@ul.ie
GEO:52.6685569;-8.5744815
END:VEVENT
END:VCALENDAR