BEGIN:VCALENDAR
VERSION:2.0
PRODID:-//National Forum for the Enhancement of Teaching and Learning in Higher Education - ECPv6.15.17.1//NONSGML v1.0//EN
CALSCALE:GREGORIAN
METHOD:PUBLISH
X-WR-CALNAME:National Forum for the Enhancement of Teaching and Learning in Higher Education
X-ORIGINAL-URL:https://www.teachingandlearning.ie
X-WR-CALDESC:Events for National Forum for the Enhancement of Teaching and Learning in Higher Education
REFRESH-INTERVAL;VALUE=DURATION:PT1H
X-Robots-Tag:noindex
X-PUBLISHED-TTL:PT1H
BEGIN:VTIMEZONE
TZID:UTC
BEGIN:STANDARD
TZOFFSETFROM:+0000
TZOFFSETTO:+0000
TZNAME:UTC
DTSTART:20200101T000000
END:STANDARD
END:VTIMEZONE
BEGIN:VEVENT
DTSTART;VALUE=DATE:20210520
DTEND;VALUE=DATE:20210521
DTSTAMP:20260421T224052
CREATED:20200921T145019Z
LAST-MODIFIED:20210202T105540Z
UID:42344-1621468800-1621555199@www.teachingandlearning.ie
SUMMARY:Connecting the DOTS - Developmental Opportunities in Transitions for Students
DESCRIPTION:Learning Objectives\n• Understand brain development in the context of current undergraduate students in higher education settings\n• Consider the risks and opportunities of contemporary socio-cultural contexts relating to student learning and life\n• Identify practical strategies for enhanced student success and the development of graduate attributes through consideration of developmentally appropriate scaffolding in curriculum design\, learning\, teaching and assessment and student support services\n*This event was deferred from the 2019/20 National Seminar Series
URL:https://www.teachingandlearning.ie/event/connecting-the-dots-developmental-opportunities-in-transitions-for-students-2/
LOCATION:University College Cork\, Ireland
CATEGORIES:Cork,NSS 20/21,Student Success,University College Cork
ATTACH;FMTTYPE=image/jpeg:https://www.teachingandlearning.ie/wp-content/uploads/UCC-1000x500.jpg
ORGANIZER;CN="Eithne Hunt":MAILTO:e.hunt@ucc.ie
END:VEVENT
BEGIN:VEVENT
DTSTART;TZID=UTC:20210520T100000
DTEND;TZID=UTC:20210520T120000
DTSTAMP:20260421T224052
CREATED:20200921T154035Z
LAST-MODIFIED:20210427T061740Z
UID:42389-1621504800-1621512000@www.teachingandlearning.ie
SUMMARY:Professional Development Framework: Digital Portfolios and Communities of Practice
DESCRIPTION:Learning Objectives\n• Identify international and national trends relating to professional development in higher education\n• Demonstrate the embedding of professional development into the GMIT curriculum\n• Showcase GMIT/Sligo IT professional development digital portfolios\n• Explore strategies for the further expansion of a ‘community of practice’ centred around the National Forum’s professional development framework
URL:https://www.teachingandlearning.ie/event/professional-development-framework-digital-portfolios-communities-of-practice/
LOCATION:Galway-Mayo Institute of Technology \, Ireland
CATEGORIES:Galway,Galway-Mayo Institute of Technology,NSS 20/21,Online Only,Online Only,The Professional Development of All Those Who Teach
ATTACH;FMTTYPE=image/jpeg:https://www.teachingandlearning.ie/wp-content/uploads/GMIT-1000x500.jpg
ORGANIZER;CN="Kate Dunne":MAILTO:kate.dunne@gmit.ie
END:VEVENT
BEGIN:VEVENT
DTSTART;VALUE=DATE:20210521
DTEND;VALUE=DATE:20210522
DTSTAMP:20260421T224052
CREATED:20200921T152448Z
LAST-MODIFIED:20200923T112352Z
UID:42366-1621555200-1621641599@www.teachingandlearning.ie
SUMMARY:Enhancing Digital Capacity of Staff who Teach in Higher Education
DESCRIPTION:Learning Objectices\n• Produce quality Open Educational Resources (OER) video content for social media platforms using a smart phone\n• Identify relevant technologies to enhance the teaching and learning experience of students\n• Incorporate these technologies into lesson planning and curriculum design\n• Appraise the effectiveness of these tools in terms of student engagement\n*This event was deferred from the 2019/20 National Seminar Series
URL:https://www.teachingandlearning.ie/event/enhancing-digital-capacity-of-staff-who-teach-in-higher-education-2/
LOCATION:University of Limerick\, Ireland
CATEGORIES:Limerick,NSS 20/21,Teaching and Learning in a Digital World,University of Limerick
ATTACH;FMTTYPE=image/jpeg:https://www.teachingandlearning.ie/wp-content/uploads/in-university-limerick-07f235da250f7e91b92e6854ac42fdfa.jpg
ORGANIZER;CN="Peter Reilly":MAILTO:peter.reilly@ul.ie
GEO:52.6685569;-8.5744815
END:VEVENT
BEGIN:VEVENT
DTSTART;TZID=UTC:20210521T100000
DTEND;TZID=UTC:20210521T120000
DTSTAMP:20260421T224052
CREATED:20200921T151953Z
LAST-MODIFIED:20210326T095811Z
UID:42361-1621591200-1621598400@www.teachingandlearning.ie
SUMMARY:Discussions on Successful Work Placement Processes - Sharing Innovative Strategies
DESCRIPTION:Learning Objectives\n• To identify the structures and scaffolds available across central units and academic departments to support students in securing internships or work placements\n• To explore and develop good practice in relation to working across central units and with academic departments to support students on an internship/placement\n• To explore and develop good practice in relation to working with external partners such as employers or professional bodies on internship or placement initiatives with students\n• To evaluate and consider the challenges of cross unit or cross department initiatives and to create strategies around such challenges through participant discussion\n• To evaluate and consider the challenges of employer or professional body led initiatives and to create success strategies around such challenges\n*This event was deferred from the 2019/20 National Seminar Series
URL:https://www.teachingandlearning.ie/event/discussions-on-successful-work-placement-processes-sharing-innovative-strategies-2/
LOCATION:University College Cork\, Ireland
CATEGORIES:Cork,NSS 20/21,Student Success,University College Cork
ATTACH;FMTTYPE=image/jpeg:https://www.teachingandlearning.ie/wp-content/uploads/UCC-1000x500.jpg
ORGANIZER;CN="Aileen Waterman":MAILTO:a.waterman@ucc.ie
END:VEVENT
BEGIN:VEVENT
DTSTART;VALUE=DATE:20210526
DTEND;VALUE=DATE:20210527
DTSTAMP:20260421T224052
CREATED:20200921T155236Z
LAST-MODIFIED:20200923T112331Z
UID:42397-1621987200-1622073599@www.teachingandlearning.ie
SUMMARY:Self-study in Action: Responding to the Disciplinary Excellence in Learning Teaching and Assessment (DELTA) Framework
DESCRIPTION:Learning Objectives\n• To support and generate evidence-based approaches to teaching and learning in teacher education that are a) informed by feedback\, participation and involvement from various stakeholders\, b) implemented using a “students as partners” approach and c) facilitated through peer-led discussions of self-study methodologies with a focus on data sources\n• To provide a platform and workshop approach to the dissemination of the scholarship of teaching and learning within teacher education through self-study researcher sharing\n• To explicitly and directly address the impact of approaches to teaching\, learning and assessment at teacher education programme and module levels by sharing qualitative and quantitative evidence within the context of self-study research\n• To promote rigorous and robust approaches to data sources\, collection and analysis within self-study research through discussion and application of ideas generated during the seminar\n*This event was deferred from the 2019/20 National Seminar Series
URL:https://www.teachingandlearning.ie/event/self-study-in-action-responding-to-the-disciplinary-excellence-in-learning-teaching-and-assessment-delta-framework-2/
LOCATION:Mary Immaculate College\, Ireland
CATEGORIES:Limerick,Mary Immaculate College,NSS 20/21,Teaching and Learning Enhancement Within and Across Disciplines
ATTACH;FMTTYPE=image/jpeg:https://www.teachingandlearning.ie/wp-content/uploads/Mary-Immaculate-College-1000x500.jpg
ORGANIZER;CN="Richard Bowles":MAILTO:richard.bowles@mic.ul.ie
GEO:52.6680204;-8.6304975
END:VEVENT
BEGIN:VEVENT
DTSTART;TZID=UTC:20210526T093000
DTEND;TZID=UTC:20210526T163000
DTSTAMP:20260421T224052
CREATED:20200921T160602Z
LAST-MODIFIED:20210406T070420Z
UID:42420-1622021400-1622046600@www.teachingandlearning.ie
SUMMARY:Climbing the UDL ladder: Building a Culture of Inclusion in Higher Education
DESCRIPTION:This CUA Universal Design for Learning (UDL) conference will investigate a myriad of approaches to UDL through an exploration of shared best inclusive practice. Through creating an awareness of a cross-campus approach to implementing a culture of inclusion and diversity\, the Institute of Technology Sligo (IT Sligo) has made significant strides in climbing the UDL ladder to bring this vision to reality. The teaching and learning framework that is UDL has guided this transition to provide for a high-quality educational experience. Together with our partners Letterkenny Institute of Technology (LYIT) and Galway Mayo Institute of Technology (GMIT)\, IT Sligo welcomes colleagues across all higher education institutions to examine and reflect on your UDL practices within your programme to ensure the student learning experience provides for the unique learning needs of students in a changing world. \nConference Themes: \n\nStudent engagement & capturing the student voice\n\nPresenters will guide conference participants through the shift needed in the teaching dynamic to one of collaborative curriculum development and allowing students to engage in the process so that they can take control and ownership of their learning process. Presentations will discuss curriculum redesigns that facilitates students to set their own pace and goals and evaluate their own progress. \n\nImproving the student experience through digital enhancement\n\nThis segment provides a thorough discussion on the impact of digital enhancement using UDL principles. This includes curriculum redesigns that have sought to reduce student challenges by providing helpful relevant digital tools to aid understanding in their subject material. \n\nLearning through Covid-19: Flipping the classroom using UDL.\n\nWere your students feeling isolated in their learning due to Covid-19 restrictions?  This segment focuses on curriculum redesigns that involve the use of the UDL framework to ‘flip the classroom’ to foster student engagement and peer collaboration. \n\nAuthentic Student Experience: showcasing UDL teaching approaches.\n\nPresentations which showcase UDL teaching approaches that consider lecturers real world experience and prompt students to engage as the practitioner. Curriculum redesigns that increase student motivation through any of the following teaching approaches such as: work-based learning\, enquiry-based learning\, or problem-based learning approaches. \n\nAdopting Alternative Assessment Practices through a UDL lens\n\nPresentations will address alternative pathways to student success which remove potential barriers making learning goals attainable. Alternative representation examples of flexible options available in an assessment which can enhance access\, support learner performance\, and reduce possible perceived threats. \nFor further information please visit the conference website by clicking here.
URL:https://www.teachingandlearning.ie/event/understanding-universal-design-for-learning/
LOCATION:Institute of Technology Sligo\, Ireland
CATEGORIES:Institute of Technology Sligo,NSS 20/21,Sligo,Teaching and Learning Enhancement Within and Across Disciplines
ATTACH;FMTTYPE=image/jpeg:https://www.teachingandlearning.ie/wp-content/uploads/Sligo-IT-1000x500.jpg
ORGANIZER;CN="Niamh Plunkett":MAILTO:plunkett.niamh@itsligo.ie
END:VEVENT
END:VCALENDAR