BEGIN:VCALENDAR
VERSION:2.0
PRODID:-//National Forum for the Enhancement of Teaching and Learning in Higher Education - ECPv6.15.17.1//NONSGML v1.0//EN
CALSCALE:GREGORIAN
METHOD:PUBLISH
X-WR-CALNAME:National Forum for the Enhancement of Teaching and Learning in Higher Education
X-ORIGINAL-URL:https://www.teachingandlearning.ie
X-WR-CALDESC:Events for National Forum for the Enhancement of Teaching and Learning in Higher Education
REFRESH-INTERVAL;VALUE=DURATION:PT1H
X-Robots-Tag:noindex
X-PUBLISHED-TTL:PT1H
BEGIN:VTIMEZONE
TZID:UTC
BEGIN:STANDARD
TZOFFSETFROM:+0000
TZOFFSETTO:+0000
TZNAME:UTC
DTSTART:20200101T000000
END:STANDARD
END:VTIMEZONE
BEGIN:VEVENT
DTSTART;TZID=UTC:20210407T100000
DTEND;TZID=UTC:20210407T123000
DTSTAMP:20260422T003715
CREATED:20200921T153018Z
LAST-MODIFIED:20210330T074846Z
UID:42377-1617789600-1617798600@www.teachingandlearning.ie
SUMMARY:How the National Professional Development Framework for all Staff who Teach in Higher Education in Ireland can Inform Continuing Professional Development for Library Staff
DESCRIPTION:Learning Objectives\n• Demonstrate a greater awareness of the Professional Development Framework for all staff who teach in Higher Education\n• Develop a clear understanding of the value of Continuing Professional Development (CPD) for library staff and the varying approaches to CPD\n• Consider practical steps on using the framework facilitating a reconsideration of library practice and CPD\n• Garner insight into key learning from the L2L project\, including how to use resources created from this project\n• Share experience from the L2L project including the writing of the book chapters\n*This event was deferred from the 2019/20 National Seminar Series
URL:https://www.teachingandlearning.ie/event/how-the-national-professional-development-framework-for-all-staff-who-teach-in-higher-education-in-ireland-can-inform-continuing-professional-development-for-library-staff-2/
CATEGORIES:Carlow,Carlow Institute of Technology,NSS 20/21,The Professional Development of All Those Who Teach
ATTACH;FMTTYPE=image/jpeg:https://www.teachingandlearning.ie/wp-content/uploads/Education_The-Barrow-Centre-Carlow-IT-1.jpg
ORGANIZER;CN="Mary Delaney":MAILTO:mary.delaney@itcarlow.ie
END:VEVENT
BEGIN:VEVENT
DTSTART;TZID=UTC:20210415T120000
DTEND;TZID=UTC:20210415T133000
DTSTAMP:20260422T003715
CREATED:20200921T154003Z
LAST-MODIFIED:20210401T101908Z
UID:42391-1618488000-1618493400@www.teachingandlearning.ie
SUMMARY:Reflections on Blended Learning for Art and Design
DESCRIPTION:Learning Objectives\n• Peer to peer sharing of new models of practice for blended learning in Art and Design\n• Opportunity for sectoral networking to support future peer exchange\n• Point of reflection following a rapid period of change necessitated by the Covid-19 crisis\n• Focus on the core qualities of studio based learning and how these can be adapted into blended learning\n• Focus on the opportunities for new connectivity and flexibility presented by blended learning
URL:https://www.teachingandlearning.ie/event/reflections-on-blended-learning-for-art-and-design/
CATEGORIES:Dublin,National College of Art & Design,NSS 20/21,Online Only,Online Only,Teaching and Learning in a Digital World
ATTACH;FMTTYPE=image/jpeg:https://www.teachingandlearning.ie/wp-content/uploads/National_College_of_Art_and_Design_Dublin_exterior.jpg
ORGANIZER;CN="Sorcha O'Brien":MAILTO:obriens@staff.ncad.ie
END:VEVENT
BEGIN:VEVENT
DTSTART;TZID=UTC:20210420T100000
DTEND;TZID=UTC:20210420T130000
DTSTAMP:20260422T003715
CREATED:20200921T145057Z
LAST-MODIFIED:20210305T091218Z
UID:42345-1618912800-1618923600@www.teachingandlearning.ie
SUMMARY:Using Course Design Intensives to Develop Coherent Active Blended Learning
DESCRIPTION:Learning Objectives\n• Explore\, apply and adapt the essential Course Design Intensives (CDI) method as an effective approach to engaging course teams with key stakeholders\n• Demonstrate knowledge of active and inclusive learning\, and graduate capitals as a framework for employability
URL:https://www.teachingandlearning.ie/event/using-course-design-intensives-to-develop-coherent-active-blended-learning/
LOCATION:University of Limerick\, Ireland
CATEGORIES:Limerick,NSS 20/21,Teaching and Learning Enhancement Within and Across Disciplines,University of Limerick
ATTACH;FMTTYPE=image/jpeg:https://www.teachingandlearning.ie/wp-content/uploads/in-university-limerick-07f235da250f7e91b92e6854ac42fdfa.jpg
ORGANIZER;CN="Dr Mary Fitzpatrick":MAILTO:Mary.Fitzpatrick@ul.ie
GEO:52.6685569;-8.5744815
END:VEVENT
BEGIN:VEVENT
DTSTART;TZID=UTC:20210423T100000
DTEND;TZID=UTC:20210423T120000
DTSTAMP:20260422T003715
CREATED:20200921T152726Z
LAST-MODIFIED:20210326T095637Z
UID:42371-1619172000-1619179200@www.teachingandlearning.ie
SUMMARY:Exploring IT Supports for Successful Work Placement Processes
DESCRIPTION:Learning Objectives\n• Identify technologies/software solutions used to support work placement and work based learning in Irish Higher Education Institutions (HEIs)\n• Investigate current good practice in HEIs regarding use of technologies to meet academic and institutional requirements\, including; managing processes\, compliance with regulations and engaging with employers\n• Explore the potential for use of technology to improve the student experience and student outcomes regarding work based learning / work placement\n• To evaluate and consider the challenges regarding using technology to support work placement / work based learning\n*This event was deferred from the 2019/20 National Seminar Series
URL:https://www.teachingandlearning.ie/event/exploring-it-supports-for-successful-work-placement-processes/
LOCATION:University College Cork\, Ireland
CATEGORIES:Cork,NSS 20/21,Student Success,University College Cork
ATTACH;FMTTYPE=image/jpeg:https://www.teachingandlearning.ie/wp-content/uploads/UCC-1000x500.jpg
ORGANIZER;CN="Jillian O'Mahony":MAILTO:jillian.omahony@ucc.ie
END:VEVENT
BEGIN:VEVENT
DTSTART;TZID=UTC:20210423T103000
DTEND;TZID=UTC:20210423T123000
DTSTAMP:20260422T003715
CREATED:20200921T155529Z
LAST-MODIFIED:20210315T112041Z
UID:42399-1619173800-1619181000@www.teachingandlearning.ie
SUMMARY:Social Action Models of Teaching and Learning for Social Enterprise Development
DESCRIPTION:Learning Objectives\n\nExplore the relationship between social enterprise and social change\nIdentify and discuss implications for teaching and learning in different contexts\nExamine opportunities for social enterprise education
URL:https://www.teachingandlearning.ie/event/social-action-models-of-teaching-and-learning-for-social-enterprise-development/
CATEGORIES:Carlow,Carlow Institute of Technology,NSS 20/21,Teaching and Learning in a Digital World
ATTACH;FMTTYPE=image/jpeg:https://www.teachingandlearning.ie/wp-content/uploads/Education_The-Barrow-Centre-Carlow-IT-1.jpg
ORGANIZER;CN="Maria Flanagan":MAILTO:m.flanagan@ancosan.ie
END:VEVENT
BEGIN:VEVENT
DTSTART;TZID=UTC:20210427T100000
DTEND;TZID=UTC:20210427T120000
DTSTAMP:20260422T003715
CREATED:20200921T160146Z
LAST-MODIFIED:20210401T102700Z
UID:42410-1619517600-1619524800@www.teachingandlearning.ie
SUMMARY:Teaming Up for Student Success in the Undergraduate Dissertation
DESCRIPTION:Learning Objectives\n• Articulate one’s own approach to undergraduate dissertation supervision as a teacher and/or as a researcher\n• Describe the advantages and disadvantages of different models\nIdentify ways in which a team approach can be applied to one’s own supervision activities\n• Devise an action plan to implement this team approach in an online/remote/blended context
URL:https://www.teachingandlearning.ie/event/teaming-up-for-student-success-in-the-undergraduate-dissertation/
LOCATION:University of Limerick\, Ireland
CATEGORIES:Limerick,NSS 20/21,Online Only,Online Only,Student Success,University of Limerick
ATTACH;FMTTYPE=image/jpeg:https://www.teachingandlearning.ie/wp-content/uploads/in-university-limerick-07f235da250f7e91b92e6854ac42fdfa.jpg
ORGANIZER;CN="Ann-Marie Creaven":MAILTO:ann-marie.creaven@ul.ie
GEO:52.6685569;-8.5744815
END:VEVENT
BEGIN:VEVENT
DTSTART;TZID=UTC:20210429T100000
DTEND;TZID=UTC:20210429T130000
DTSTAMP:20260422T003715
CREATED:20200921T151626Z
LAST-MODIFIED:20210305T091607Z
UID:42357-1619690400-1619701200@www.teachingandlearning.ie
SUMMARY:Developing the Concept of "Good" Teaching
DESCRIPTION:Learning Objectives\n• Explore the perceptions of new teaching academics on student engagement\n• Examine the concepts of ‘good teaching’ in light of the student voice\n• Discuss the variety of approaches that can enable increased student engagement\n• Evaluate the approaches that can be applied to improve the efficacy of your teaching practice\n*This event was deferred from the 2019/20 National Seminar Series
URL:https://www.teachingandlearning.ie/event/developing-the-concept-of-good-teaching-2/
LOCATION:University of Limerick\, Ireland
CATEGORIES:Limerick,NSS 20/21,Student Success,University of Limerick
ATTACH;FMTTYPE=image/jpeg:https://www.teachingandlearning.ie/wp-content/uploads/in-university-limerick-07f235da250f7e91b92e6854ac42fdfa.jpg
ORGANIZER;CN="Mary  Fitzpatrick":MAILTO:mary.fitzpatrick@ul.ie
GEO:52.6685569;-8.5744815
END:VEVENT
END:VCALENDAR