BEGIN:VCALENDAR
VERSION:2.0
PRODID:-//National Forum for the Enhancement of Teaching and Learning in Higher Education - ECPv6.15.17.1//NONSGML v1.0//EN
CALSCALE:GREGORIAN
METHOD:PUBLISH
X-WR-CALNAME:National Forum for the Enhancement of Teaching and Learning in Higher Education
X-ORIGINAL-URL:https://www.teachingandlearning.ie
X-WR-CALDESC:Events for National Forum for the Enhancement of Teaching and Learning in Higher Education
REFRESH-INTERVAL;VALUE=DURATION:PT1H
X-Robots-Tag:noindex
X-PUBLISHED-TTL:PT1H
BEGIN:VTIMEZONE
TZID:UTC
BEGIN:STANDARD
TZOFFSETFROM:+0000
TZOFFSETTO:+0000
TZNAME:UTC
DTSTART:20190101T000000
END:STANDARD
END:VTIMEZONE
BEGIN:VEVENT
DTSTART;VALUE=DATE:20201204
DTEND;VALUE=DATE:20201205
DTSTAMP:20260422T071700
CREATED:20200921T144612Z
LAST-MODIFIED:20201105T130057Z
UID:42337-1607040000-1607126399@www.teachingandlearning.ie
SUMMARY:Building Resilience into Practice Education for Health Science Students
DESCRIPTION:Learning Objectives\n• Understand how high standards of practice education can be achieved using a blended approach in a healthcare environment changed by Covid-19\n• Explore pedagogically-appropriate techniques to facilitate effective feedback and assessment between students and clinicians throughout practice education in a healthcare environment changed by Covid-19\n• Explore emotionally-literate approaches to addressing challenges in student behaviour and performance as part of practice education in a healthcare environment changed by Covid-19\n• Be able to implement approaches and techniques that foster effective teaching\, safe learning\, and collaborative assessment in a healthcare environment changed by Covid-19 \nThe hosts will: \n• Understand what additional supporting resources are needed to improve teaching\, learning\, and assessment throughout practice education in a healthcare environment changed by Covid-19
URL:https://www.teachingandlearning.ie/event/building-resilience-into-practice-education-for-health-science-students/
LOCATION:Trinity College Dublin\, Ireland
CATEGORIES:Dublin,NSS 20/21,Student Success,Trinity College Dublin
ATTACH;FMTTYPE=image/jpeg:https://www.teachingandlearning.ie/wp-content/uploads/TCD-1000x500.jpg
ORGANIZER;CN="Dr Annemarie Bennett":MAILTO:abennet@tcd.ie
GEO:53.3498053;-6.2603097
END:VEVENT
BEGIN:VEVENT
DTSTART;VALUE=DATE:20201204
DTEND;VALUE=DATE:20201205
DTSTAMP:20260422T071700
CREATED:20200921T144825Z
LAST-MODIFIED:20200930T073148Z
UID:42342-1607040000-1607126399@www.teachingandlearning.ie
SUMMARY:Communities of Practice: Challenges and Opportunities for Educators
DESCRIPTION:Learning Objectives\n• Define the various types of communities of practice\n• Introduce some existing communities of practice and highlight best practice\n• Share the benefits and opportunities of communities of practice\n• Identify challenges and gaps in Ireland\n• Explore next steps with participants
URL:https://www.teachingandlearning.ie/event/communities-of-practice-challenges-opportunities-for-educators/
LOCATION:National College of Ireland\, Ireland
CATEGORIES:Dublin,National College of Ireland,NSS 20/21,Online Only,Online Only,The Professional Development of All Those Who Teach
ATTACH;FMTTYPE=image/jpeg:https://www.teachingandlearning.ie/wp-content/uploads/National-College-of-Ireland.jpg
ORGANIZER;CN="David Pollard":MAILTO:david.pollard@rehab.ie
GEO:53.3487808;-6.2427731
END:VEVENT
BEGIN:VEVENT
DTSTART;VALUE=DATE:20201215
DTEND;VALUE=DATE:20201216
DTSTAMP:20260422T071700
CREATED:20200921T144951Z
LAST-MODIFIED:20201130T103440Z
UID:42343-1607990400-1608076799@www.teachingandlearning.ie
SUMMARY:NutriPD Seminar: Empowering Leaders in the Nutrition Profession-with a focus on competency-based assessment in nutrition education
DESCRIPTION:Learning Objectives\n\nCritically discuss the use of competency-based assessment in nutrition and nutrition-related courses. Reflect and implement learnings from competency-based assessment in Dietetic-based programmes\nUnderstand the role NutriPD are playing in the progression of the nutrition profession in Ireland and their findings so far\nDiscuss how to become a member of the Association for Nutrition (AfN) with an emphasis on portfolio submissions and how to transfer from ANutr to RNutr status\nOutline possible career pathways for nutritionists in Ireland\, with a focus on academia\, research and industry opportunities\nLearn how to effectively use Twitter as a nutritionist to get evidence-based information to the public and raise awareness of AfN registered nutritionists as qualified professionals for seeking nutrition advice
URL:https://www.teachingandlearning.ie/event/competency-based-assessment-in-nutrition/
LOCATION:Galway-Mayo Institute of Technology \, Ireland
CATEGORIES:Galway,Galway-Mayo Institute of Technology,NSS 20/21,Teaching and Learning Enhancement Within and Across Disciplines
ATTACH;FMTTYPE=image/jpeg:https://www.teachingandlearning.ie/wp-content/uploads/GMIT-1000x500.jpg
ORGANIZER;CN="Lisa Ryan":MAILTO:lisa.ryan@gmit.ie
END:VEVENT
END:VCALENDAR