BEGIN:VCALENDAR
VERSION:2.0
PRODID:-//National Forum for the Enhancement of Teaching and Learning in Higher Education - ECPv6.15.17.1//NONSGML v1.0//EN
CALSCALE:GREGORIAN
METHOD:PUBLISH
X-WR-CALNAME:National Forum for the Enhancement of Teaching and Learning in Higher Education
X-ORIGINAL-URL:https://www.teachingandlearning.ie
X-WR-CALDESC:Events for National Forum for the Enhancement of Teaching and Learning in Higher Education
REFRESH-INTERVAL;VALUE=DURATION:PT1H
X-Robots-Tag:noindex
X-PUBLISHED-TTL:PT1H
BEGIN:VTIMEZONE
TZID:UTC
BEGIN:STANDARD
TZOFFSETFROM:+0000
TZOFFSETTO:+0000
TZNAME:UTC
DTSTART:20210101T000000
END:STANDARD
END:VTIMEZONE
BEGIN:VEVENT
DTSTART;VALUE=DATE:20220505
DTEND;VALUE=DATE:20220506
DTSTAMP:20260424T133605
CREATED:20210922T121620Z
LAST-MODIFIED:20211021T102821Z
UID:45972-1651708800-1651795199@www.teachingandlearning.ie
SUMMARY:Enhancing Practice in Further Education: Contemporary Issues & Future Pathways
DESCRIPTION:Learning Objectives\n\nOn completing this workshop seminar FE teachers will have identified their current professional development needs through peer dialogue with the support of FE lecturers\nThis workshop will give FE teachers from multiple disciplines an opportunity to reflect on and discuss the visionary document\, Future FET: Transforming Learning The National Further Education and Training Strategy 2020-2024 (https://www.solas.ie/f/70398/x/64d0718c9e/solas_fet_strategy_web.pdf) and thereby discuss current opportunities and challenges in the FE sector\nFE teachers will be given the opportunity to critically reflect on their practice and to contribute to changing conversations in the FE sector
URL:https://www.teachingandlearning.ie/event/enhancing-practice-in-further-education-contemporary-issues-future-pathways/
CATEGORIES:Dublin,Marino Institute of Education,NSS 21/22,The Professional Development of All Those Who Teach
ATTACH;FMTTYPE=image/jpeg:https://www.teachingandlearning.ie/wp-content/uploads/rsz_dsc_0007_WEB.jpeg
ORGANIZER;CN="Colleen Horn":MAILTO:colleen.horn@mie.ie
END:VEVENT
END:VCALENDAR