BEGIN:VCALENDAR
VERSION:2.0
PRODID:-//National Forum for the Enhancement of Teaching and Learning in Higher Education - ECPv6.15.17.1//NONSGML v1.0//EN
CALSCALE:GREGORIAN
METHOD:PUBLISH
X-WR-CALNAME:National Forum for the Enhancement of Teaching and Learning in Higher Education
X-ORIGINAL-URL:https://www.teachingandlearning.ie
X-WR-CALDESC:Events for National Forum for the Enhancement of Teaching and Learning in Higher Education
REFRESH-INTERVAL;VALUE=DURATION:PT1H
X-Robots-Tag:noindex
X-PUBLISHED-TTL:PT1H
BEGIN:VTIMEZONE
TZID:UTC
BEGIN:STANDARD
TZOFFSETFROM:+0000
TZOFFSETTO:+0000
TZNAME:UTC
DTSTART:20200101T000000
END:STANDARD
END:VTIMEZONE
BEGIN:VEVENT
DTSTART;TZID=UTC:20211108T080000
DTEND;TZID=UTC:20211130T170000
DTSTAMP:20260421T211338
CREATED:20211112T171336Z
LAST-MODIFIED:20211112T171336Z
UID:47773-1636358400-1638291600@www.teachingandlearning.ie
SUMMARY:Valuing Ireland’s Teaching and Learning (VIT&L)
DESCRIPTION:
URL:https://www.teachingandlearning.ie/event/valuing-irelands-teaching-and-learning-vitl/
CATEGORIES:Featured,Featured 2,featured 3
ATTACH;FMTTYPE=image/jpeg:https://www.teachingandlearning.ie/wp-content/uploads/VITAL-video-thumb.jpg
END:VEVENT
END:VCALENDAR