BEGIN:VCALENDAR
VERSION:2.0
PRODID:-//National Forum for the Enhancement of Teaching and Learning in Higher Education - ECPv6.15.17.1//NONSGML v1.0//EN
CALSCALE:GREGORIAN
METHOD:PUBLISH
X-ORIGINAL-URL:https://www.teachingandlearning.ie
X-WR-CALDESC:Events for National Forum for the Enhancement of Teaching and Learning in Higher Education
REFRESH-INTERVAL;VALUE=DURATION:PT1H
X-Robots-Tag:noindex
X-PUBLISHED-TTL:PT1H
BEGIN:VTIMEZONE
TZID:UTC
BEGIN:STANDARD
TZOFFSETFROM:+0000
TZOFFSETTO:+0000
TZNAME:UTC
DTSTART:20190101T000000
END:STANDARD
END:VTIMEZONE
BEGIN:VEVENT
DTSTART;TZID=UTC:20201125T000000
DTEND;TZID=UTC:20201125T130000
DTSTAMP:20260424T161903
CREATED:20201020T085149Z
LAST-MODIFIED:20201022T160643Z
UID:43146-1606262400-1606309200@www.teachingandlearning.ie
SUMMARY:Webinar on "The INDEx Survey: A Challenging and Rewarding Journey"
DESCRIPTION:This webinar charts the story behind the planning\, development and implementation of the Irish National Digital Experience (INDEx) Survey. Participants will have an opportunity to engage directly with Ireland’s National Forum for the Enhancement of Teaching and Learning in Higher Education\, co-ordinators of the survey\, as they share their experiences of this first for Irish higher education. \nThis event is designed for anyone interested in the INDEx Survey process overall\, and particularly for those who may be considering running a similar survey in their own country or education institution. \n24\,484 students and 4\,445 staff who teach at 32 higher education institutions in Ireland completed the INDEx Survey which set out to explore and capture the digital experiences of students and staff who teach\, highlighting what makes a difference to them and providing an evidence base to inform future decision-making and enhancement of teaching and learning in Irish higher education. \nThe survey was a success\, and indeed made possible\, due to focused\, national\, collaborative efforts. In this webinar\, National Forum staff will describe the process of collaboration and partnership behind the INDEx Survey. They will also discuss the narrative behind the results\, conclusions and key learnings that were published earlier this year in the INDEx Survey Findings Report. \nThis event coincides with the recent publication of the National Forum briefing paper on the INDEx Survey process Implementing the Irish National Digital Experience (INDEx) Survey: A Challenging and Rewarding Journey. Attendees are invited to read this briefing paper before attending the webinar (downloadable from https://www.teachingandlearning.ie/publication/implementing-the-irish-national-digital-experience-index-survey-a-challenging-and-rewarding-journey). \nPlease note this event will run from 12.00 to 13.00 hours (Irish time) on Wednesday 25 November 2020. All are welcome to participate. \nClick here to register.
URL:https://www.teachingandlearning.ie/event/webinar-on-the-index-survey-a-challenging-and-rewarding-journey/
CATEGORIES:Featured 2,T&L Events
ATTACH;FMTTYPE=image/jpeg:https://www.teachingandlearning.ie/wp-content/uploads/webinar-4.jpg
END:VEVENT
END:VCALENDAR