BEGIN:VCALENDAR
VERSION:2.0
PRODID:-//National Forum for the Enhancement of Teaching and Learning in Higher Education - ECPv6.15.17.1//NONSGML v1.0//EN
CALSCALE:GREGORIAN
METHOD:PUBLISH
X-ORIGINAL-URL:https://www.teachingandlearning.ie
X-WR-CALDESC:Events for National Forum for the Enhancement of Teaching and Learning in Higher Education
REFRESH-INTERVAL;VALUE=DURATION:PT1H
X-Robots-Tag:noindex
X-PUBLISHED-TTL:PT1H
BEGIN:VTIMEZONE
TZID:UTC
BEGIN:STANDARD
TZOFFSETFROM:+0000
TZOFFSETTO:+0000
TZNAME:UTC
DTSTART:20200101T000000
END:STANDARD
END:VTIMEZONE
BEGIN:VEVENT
DTSTART;VALUE=DATE:20210107
DTEND;VALUE=DATE:20210108
DTSTAMP:20260423T101003
CREATED:20200921T152553Z
LAST-MODIFIED:20201211T094954Z
UID:42369-1609977600-1610063999@www.teachingandlearning.ie
SUMMARY:Enhancing Student Engagement Through Technology Enhanced Learning
DESCRIPTION:Learning Objectives\n• Provide an overview of the opportunities afforded for student engagement through Technology Enhanced Learning (TEL)\n• Present research findings which demonstrate the relationship between positive integration of technology enhanced learning and student engagement\n• Facilitate a self-evaluation audit for staff of their own current capacity around the use of TEL and Virtual Learning Enviroment (VLE) platforms such as Moodle\n• Encourage teaching staff to improve their digital capacity for student engagement\n• Provide a workshop forum for collaborative engagement and sharing of best-practice by participants
URL:https://www.teachingandlearning.ie/event/enhancing-student-engagement-through-technology-enhanced-learning/
LOCATION:Limerick Institute of Technology\, Ireland
CATEGORIES:Limerick,Limerick Institute of Technology,NSS 20/21,Teaching and Learning in a Digital World
ATTACH;FMTTYPE=image/jpeg:https://www.teachingandlearning.ie/wp-content/uploads/LIT-810x456.jpg
END:VEVENT
BEGIN:VEVENT
DTSTART;VALUE=DATE:20210108
DTEND;VALUE=DATE:20210109
DTSTAMP:20260423T101003
CREATED:20200921T155716Z
LAST-MODIFIED:20201221T122729Z
UID:42405-1610064000-1610150399@www.teachingandlearning.ie
SUMMARY:Supporting Writing: How Supervisors Can Support Doctoral Students to Write-up
DESCRIPTION:Learning Objectives\n• Implement strategies for providing writing feedback to students\n• Diagnose common problems that need to be resolved in the final draft\n• Provide support for the emotional challenges of writing up\n• Offer advice on writing productivity to doctoral students
URL:https://www.teachingandlearning.ie/event/supporting-writing-how-supervisors-can-support-doctoral-students-to-write-up/
LOCATION:Limerick Institute of Technology\, Ireland
CATEGORIES:Limerick,Limerick Institute of Technology,NSS 20/21,Online Only,Online Only,Student Success,Teaching and Learning Enhancement Within and Across Disciplines
ATTACH;FMTTYPE=image/jpeg:https://www.teachingandlearning.ie/wp-content/uploads/LIT-810x456.jpg
ORGANIZER;CN="Carmel McKenna":MAILTO:carmel.mckenna@lit.ie
END:VEVENT
BEGIN:VEVENT
DTSTART;VALUE=DATE:20210115
DTEND;VALUE=DATE:20210116
DTSTAMP:20260423T101003
CREATED:20200921T160648Z
LAST-MODIFIED:20201210T131424Z
UID:42422-1610668800-1610755199@www.teachingandlearning.ie
SUMMARY:TEL Practices to Promote Active Learning and a Personalised Learning Experience In Large Class Environments
DESCRIPTION:Learning Objectives\n• Demonstrate how best to engage students\, in an inclusive way\, in large classes resulting in greater interaction and engagement\n• Recognise the importance of personalising the student learning experience\n• Identify the TEL opportunities which can increase the personalisation of the student learning experience in large classes
URL:https://www.teachingandlearning.ie/event/using-tel-to-personalise-the-student-learning-experience-in-large-classes/
LOCATION:University of Limerick\, Ireland
CATEGORIES:Limerick,NSS 20/21,Student Success,University of Limerick
ATTACH;FMTTYPE=image/jpeg:https://www.teachingandlearning.ie/wp-content/uploads/in-university-limerick-07f235da250f7e91b92e6854ac42fdfa.jpg
GEO:52.6685569;-8.5744815
END:VEVENT
END:VCALENDAR