BEGIN:VCALENDAR
VERSION:2.0
PRODID:-//National Forum for the Enhancement of Teaching and Learning in Higher Education - ECPv6.15.17.1//NONSGML v1.0//EN
CALSCALE:GREGORIAN
METHOD:PUBLISH
X-ORIGINAL-URL:https://www.teachingandlearning.ie
X-WR-CALDESC:Events for National Forum for the Enhancement of Teaching and Learning in Higher Education
REFRESH-INTERVAL;VALUE=DURATION:PT1H
X-Robots-Tag:noindex
X-PUBLISHED-TTL:PT1H
BEGIN:VTIMEZONE
TZID:UTC
BEGIN:STANDARD
TZOFFSETFROM:+0000
TZOFFSETTO:+0000
TZNAME:UTC
DTSTART:20190101T000000
END:STANDARD
END:VTIMEZONE
BEGIN:VEVENT
DTSTART;TZID=UTC:20200106T093000
DTEND;TZID=UTC:20200106T093000
DTSTAMP:20260424T052622
CREATED:20190916T112101Z
LAST-MODIFIED:20190916T112101Z
UID:33169-1578303000-1578303000@www.teachingandlearning.ie
SUMMARY:Developing Teaching Portfolios
DESCRIPTION:Learning Outcomes: \n\nExamine how Teaching Portfolios can play a key role in constructing your Professional Identity\nIdentify the resources and approaches used in creating a Teaching Portfolio\nDiscuss approaches on how to incorporate Teaching Portfolios into your teaching practice to become a critically reflective teacher\nOutline some tools and resources used for creating and developing Teaching Portfolios
URL:https://www.teachingandlearning.ie/event/developing-teaching-portfolios/
LOCATION:Limerick Institute of Technology\, Ireland
CATEGORIES:Limerick,Limerick Institute of Technology,National Seminar Series 2019/20,The Professional Development of All Those Who Teach
ATTACH;FMTTYPE=image/jpeg:https://www.teachingandlearning.ie/wp-content/uploads/LIT-810x456.jpg
ORGANIZER;CN="Brendan Murphy":MAILTO:brendan.murphy@lit.ie
END:VEVENT
BEGIN:VEVENT
DTSTART;TZID=UTC:20200122T100000
DTEND;TZID=UTC:20200122T100000
DTSTAMP:20260424T052622
CREATED:20190903T012659Z
LAST-MODIFIED:20190909T094150Z
UID:32329-1579687200-1579687200@www.teachingandlearning.ie
SUMMARY:Student Success is Everybody's Business: Developing a Student Success Strategy at MIC
DESCRIPTION:Learning Outcomes\n\nIllustrate best practice in the field of student success\nExamine current professional service and academic practices which impact upon Student Success at MIC\nExplore how MIC could best use learner data as an evidence base to inform and enhance student success\nExplore steps and approaches needed to develop a holistic student success strategy\nIdentify additional gaps in knowledge/expertise\, which will inform a structured approach to delivering future professional development opportunities tailored towards student success
URL:https://www.teachingandlearning.ie/event/student-success-is-everybodys-business-developing-a-student-success-strategy-at-mic/
LOCATION:Mary Immaculate College\, Ireland
CATEGORIES:Limerick,Mary Immaculate College,NSS 2019/2020,Student Success
ATTACH;FMTTYPE=image/jpeg:https://www.teachingandlearning.ie/wp-content/uploads/Mary-Immaculate-College-1000x500.jpg
ORGANIZER;CN="Geraldine Brosnan":MAILTO:geraldine.brosnan@mic.ul.ie
GEO:52.6680204;-8.6304975
END:VEVENT
END:VCALENDAR