BEGIN:VCALENDAR
VERSION:2.0
PRODID:-//National Forum for the Enhancement of Teaching and Learning in Higher Education - ECPv6.15.17.1//NONSGML v1.0//EN
CALSCALE:GREGORIAN
METHOD:PUBLISH
X-ORIGINAL-URL:https://www.teachingandlearning.ie
X-WR-CALDESC:Events for National Forum for the Enhancement of Teaching and Learning in Higher Education
REFRESH-INTERVAL;VALUE=DURATION:PT1H
X-Robots-Tag:noindex
X-PUBLISHED-TTL:PT1H
BEGIN:VTIMEZONE
TZID:UTC
BEGIN:STANDARD
TZOFFSETFROM:+0000
TZOFFSETTO:+0000
TZNAME:UTC
DTSTART:20180101T000000
END:STANDARD
END:VTIMEZONE
BEGIN:VEVENT
DTSTART;VALUE=DATE:20190508
DTEND;VALUE=DATE:20190509
DTSTAMP:20260424T191748
CREATED:20181114T143333Z
LAST-MODIFIED:20181116T162451Z
UID:29403-1557273600-1557359999@www.teachingandlearning.ie
SUMMARY:Programmatic assessment in physiotherapy education; exploring a new approach to student assessment in the clinical workplace
DESCRIPTION:Learning Outcomes\n\nBe able to describe what is meant by programmatic assessment\nBe able to differentiate between “assessments of learning” and “assessments for learning in their current physiotherapy curricula\nCritically appraise current methods of assessment used in their physiotherapy education programmes\nConsider the need for programmatic assessment in current physiotherapy curricula by debating it pros and cons\nDiscuss the feasibility of programmatic assessment in current physiotherapy curricula nationally
URL:https://www.teachingandlearning.ie/event/programmatic-assessment-in-physiotherapy-education-exploring-a-new-approach-to-student-assessment-in-the-clinical-workplace/
LOCATION:Limerick
CATEGORIES:Assessment OF/FOR and AS Learning,Limerick,National Seminar Series 2018/19,University of Limerick
ATTACH;FMTTYPE=image/jpeg:https://www.teachingandlearning.ie/wp-content/uploads/in-university-limerick-07f235da250f7e91b92e6854ac42fdfa.jpg
ORGANIZER;CN="Ms Anne O'Connor":MAILTO:anne.oconnor@ul.ie
END:VEVENT
BEGIN:VEVENT
DTSTART;VALUE=DATE:20190517
DTEND;VALUE=DATE:20190518
DTSTAMP:20260424T191748
CREATED:20181105T130242Z
LAST-MODIFIED:20181112T163328Z
UID:28888-1558051200-1558137599@www.teachingandlearning.ie
SUMMARY:Promoting 21st century learning: The use of technology to enhance problem-design\, collaboration\, feedback and assessment in PBL
DESCRIPTION:Learning Outcomes:\n\nIllustrate the skills for future work environments\nExamine how PBL can address emerging skills gaps\nExplore how technology can be utilized to enhance PBL\nRecommend different technologies that can be used to enhance the PBL experience for students\n\nEventbrite registration link will be available soon\, in the interim please contact the organiser directly for further information.
URL:https://www.teachingandlearning.ie/event/mary-immaculate-college-promoting-21st-century-learning-the-use-of-technology-to-enhance-problem-design-collaboration-feedback-and-assessment-in-pbl/
LOCATION:Limerick
CATEGORIES:Innovative Teaching using Technology,Limerick,Mary Immaculate College,National Seminar Series 2018/19
ATTACH;FMTTYPE=image/jpeg:https://www.teachingandlearning.ie/wp-content/uploads/Mary-Immaculate-College-1000x500.jpg
ORGANIZER;CN="Dr Emma O'Brien":MAILTO:emma.obrien@mic.ul.ie
END:VEVENT
END:VCALENDAR