BEGIN:VCALENDAR
VERSION:2.0
PRODID:-//National Forum for the Enhancement of Teaching and Learning in Higher Education - ECPv6.15.17.1//NONSGML v1.0//EN
CALSCALE:GREGORIAN
METHOD:PUBLISH
X-ORIGINAL-URL:https://www.teachingandlearning.ie
X-WR-CALDESC:Events for National Forum for the Enhancement of Teaching and Learning in Higher Education
REFRESH-INTERVAL;VALUE=DURATION:PT1H
X-Robots-Tag:noindex
X-PUBLISHED-TTL:PT1H
BEGIN:VTIMEZONE
TZID:UTC
BEGIN:STANDARD
TZOFFSETFROM:+0000
TZOFFSETTO:+0000
TZNAME:UTC
DTSTART:20180101T000000
END:STANDARD
END:VTIMEZONE
BEGIN:VEVENT
DTSTART;TZID=UTC:20190426T133000
DTEND;TZID=UTC:20190426T153500
DTSTAMP:20260424T205855
CREATED:20181101T150910Z
LAST-MODIFIED:20190301T130429Z
UID:28812-1556285400-1556292900@www.teachingandlearning.ie
SUMMARY:The case for problem-based learning in the behavioural and social sciences
DESCRIPTION:Learning Outcomes:\n\nCompare and contrast different approaches to problem-based learning in the behavioural social sciences across a number of higher education institutions in Europe\nEvaluate some of the opportunities and challenges of implementing problem based learning in the behavioural and social sciences\nDiscuss ideas for implementing innovative teaching approaches (including problem based learning) with colleagues from different disciplines\, different institutions\, and different countries\nPrepare brief action plan for how to incorporate new knowledge gained in this workshop into current teaching practice\n\n 
URL:https://www.teachingandlearning.ie/event/university-of-limerick-the-case-for-problem-based-learning-in-the-behavioural-and-social-sciences/
LOCATION:Limerick
CATEGORIES:Limerick,National Seminar Series 2018/19,Professional Development,University of Limerick
ATTACH;FMTTYPE=image/jpeg:https://www.teachingandlearning.ie/wp-content/uploads/in-university-limerick-07f235da250f7e91b92e6854ac42fdfa.jpg
ORGANIZER;CN="Elaine Kinsella":MAILTO:elaine.kinsella@ul.ie
END:VEVENT
END:VCALENDAR