BEGIN:VCALENDAR
VERSION:2.0
PRODID:-//National Forum for the Enhancement of Teaching and Learning in Higher Education - ECPv6.15.17.1//NONSGML v1.0//EN
CALSCALE:GREGORIAN
METHOD:PUBLISH
X-WR-CALNAME:National Forum for the Enhancement of Teaching and Learning in Higher Education
X-ORIGINAL-URL:https://www.teachingandlearning.ie
X-WR-CALDESC:Events for National Forum for the Enhancement of Teaching and Learning in Higher Education
REFRESH-INTERVAL;VALUE=DURATION:PT1H
X-Robots-Tag:noindex
X-PUBLISHED-TTL:PT1H
BEGIN:VTIMEZONE
TZID:UTC
BEGIN:STANDARD
TZOFFSETFROM:+0000
TZOFFSETTO:+0000
TZNAME:UTC
DTSTART:20200101T000000
END:STANDARD
END:VTIMEZONE
BEGIN:VEVENT
DTSTART;VALUE=DATE:20210520
DTEND;VALUE=DATE:20210521
DTSTAMP:20260422T052223
CREATED:20200921T145019Z
LAST-MODIFIED:20210202T105540Z
UID:42344-1621468800-1621555199@www.teachingandlearning.ie
SUMMARY:Connecting the DOTS - Developmental Opportunities in Transitions for Students
DESCRIPTION:Learning Objectives\n• Understand brain development in the context of current undergraduate students in higher education settings\n• Consider the risks and opportunities of contemporary socio-cultural contexts relating to student learning and life\n• Identify practical strategies for enhanced student success and the development of graduate attributes through consideration of developmentally appropriate scaffolding in curriculum design\, learning\, teaching and assessment and student support services\n*This event was deferred from the 2019/20 National Seminar Series
URL:https://www.teachingandlearning.ie/event/connecting-the-dots-developmental-opportunities-in-transitions-for-students-2/
LOCATION:University College Cork\, Ireland
CATEGORIES:Cork,NSS 20/21,Student Success,University College Cork
ATTACH;FMTTYPE=image/jpeg:https://www.teachingandlearning.ie/wp-content/uploads/UCC-1000x500.jpg
ORGANIZER;CN="Eithne Hunt":MAILTO:e.hunt@ucc.ie
END:VEVENT
BEGIN:VEVENT
DTSTART;TZID=UTC:20210521T100000
DTEND;TZID=UTC:20210521T120000
DTSTAMP:20260422T052223
CREATED:20200921T151953Z
LAST-MODIFIED:20210326T095811Z
UID:42361-1621591200-1621598400@www.teachingandlearning.ie
SUMMARY:Discussions on Successful Work Placement Processes - Sharing Innovative Strategies
DESCRIPTION:Learning Objectives\n• To identify the structures and scaffolds available across central units and academic departments to support students in securing internships or work placements\n• To explore and develop good practice in relation to working across central units and with academic departments to support students on an internship/placement\n• To explore and develop good practice in relation to working with external partners such as employers or professional bodies on internship or placement initiatives with students\n• To evaluate and consider the challenges of cross unit or cross department initiatives and to create strategies around such challenges through participant discussion\n• To evaluate and consider the challenges of employer or professional body led initiatives and to create success strategies around such challenges\n*This event was deferred from the 2019/20 National Seminar Series
URL:https://www.teachingandlearning.ie/event/discussions-on-successful-work-placement-processes-sharing-innovative-strategies-2/
LOCATION:University College Cork\, Ireland
CATEGORIES:Cork,NSS 20/21,Student Success,University College Cork
ATTACH;FMTTYPE=image/jpeg:https://www.teachingandlearning.ie/wp-content/uploads/UCC-1000x500.jpg
ORGANIZER;CN="Aileen Waterman":MAILTO:a.waterman@ucc.ie
END:VEVENT
END:VCALENDAR