BEGIN:VCALENDAR
VERSION:2.0
PRODID:-//National Forum for the Enhancement of Teaching and Learning in Higher Education - ECPv6.15.17.1//NONSGML v1.0//EN
CALSCALE:GREGORIAN
METHOD:PUBLISH
X-ORIGINAL-URL:https://www.teachingandlearning.ie
X-WR-CALDESC:Events for National Forum for the Enhancement of Teaching and Learning in Higher Education
REFRESH-INTERVAL;VALUE=DURATION:PT1H
X-Robots-Tag:noindex
X-PUBLISHED-TTL:PT1H
BEGIN:VTIMEZONE
TZID:UTC
BEGIN:STANDARD
TZOFFSETFROM:+0000
TZOFFSETTO:+0000
TZNAME:UTC
DTSTART:20200101T000000
END:STANDARD
END:VTIMEZONE
BEGIN:VEVENT
DTSTART;VALUE=DATE:20210302
DTEND;VALUE=DATE:20210303
DTSTAMP:20260422T090934
CREATED:20200921T144508Z
LAST-MODIFIED:20210209T095709Z
UID:42334-1614643200-1614729599@www.teachingandlearning.ie
SUMMARY:Anti-racist social work: From "post-race" to decolonial perspectives
DESCRIPTION:Learning Objectives\n• Informing a critical approach which encourages practice teachers’ curiosity\n• Exploring interactive teaching methods to challenge assumptions\n• Incorporating this critical approach and curiosity into Social Work Practice and Teaching\n*This event was deferred from the 2019/20 National Seminar Series
URL:https://www.teachingandlearning.ie/event/anti-racist-social-work-interventions-in-post-race-societies/
LOCATION:University College Cork\, Ireland
CATEGORIES:Cork,NSS 20/21,Student Success,The Professional Development of All Those Who Teach,University College Cork
ATTACH;FMTTYPE=image/jpeg:https://www.teachingandlearning.ie/wp-content/uploads/UCC-1000x500.jpg
ORGANIZER;CN="Joanne Rose":MAILTO:joanne.rose@ucc.ie
END:VEVENT
BEGIN:VEVENT
DTSTART;TZID=UTC:20210304T090000
DTEND;TZID=UTC:20210304T130000
DTSTAMP:20260422T090934
CREATED:20200921T153419Z
LAST-MODIFIED:20210120T114350Z
UID:42385-1614848400-1614862800@www.teachingandlearning.ie
SUMMARY:Online Assessment in Health Professions Education: Opportunities and Challenges
DESCRIPTION:Learning Objectives\n• Critically reflect on key opportunities and challenges of online assessment from the perspectives of teachers and learners\n• Select potentially suitable methods of online assessment for a range of situations in Health Professions Education (HPE)\n• Consider the potential of novel methods of online assessment in HPE\n• Appreciate the implications of online assessment for student learning\n• Explore ways to critically evaluate and conduct research in online assessment
URL:https://www.teachingandlearning.ie/event/online-assessment-in-health-professions-education-opportunities-and-challenges/
LOCATION:University College Cork\, Ireland
CATEGORIES:Cork,NSS 20/21,Teaching and Learning in a Digital World,University College Cork
ATTACH;FMTTYPE=image/jpeg:https://www.teachingandlearning.ie/wp-content/uploads/UCC-1000x500.jpg
ORGANIZER;CN="Catherine Sweeney":MAILTO:c.sweeney@ucc.ie
END:VEVENT
BEGIN:VEVENT
DTSTART;VALUE=DATE:20210318
DTEND;VALUE=DATE:20210319
DTSTAMP:20260422T090934
CREATED:20200921T152947Z
LAST-MODIFIED:20200923T112754Z
UID:42376-1616025600-1616111999@www.teachingandlearning.ie
SUMMARY:Going all Online - Teaching Practice\, Learning Design and Assessment
DESCRIPTION:Learning Objectives\n• Discussion of challenges and opportunities of online teaching and learning\n• Design of feedback and assessment tools in a virtual environment\n• Demonstration of best practice in mathematics/machine learning\n• Professional development of teaching staff
URL:https://www.teachingandlearning.ie/event/going-all-online-teaching-practice-learning-design-and-assessment/
LOCATION:University College Cork\, Ireland
CATEGORIES:Cork,NSS 20/21,Student Success,Teaching and Learning Enhancement Within and Across Disciplines,Teaching and Learning in a Digital World,University College Cork
ATTACH;FMTTYPE=image/jpeg:https://www.teachingandlearning.ie/wp-content/uploads/UCC-1000x500.jpg
END:VEVENT
BEGIN:VEVENT
DTSTART;TZID=UTC:20210323T130000
DTEND;TZID=UTC:20210323T143000
DTSTAMP:20260422T090934
CREATED:20200921T160002Z
LAST-MODIFIED:20210226T113706Z
UID:42408-1616504400-1616509800@www.teachingandlearning.ie
SUMMARY:Teaching and Learning Open Research in Higher Education
DESCRIPTION:Learning Objectives\n• Understand and be able to describe what open research is\n• Understand and be able to describe the role and importance of open research in higher education\n• Recognise approaches to incorporating open research into their teaching and research supervision\n• Understand how to incorporate approaches to teaching open research in their own practice
URL:https://www.teachingandlearning.ie/event/teaching-and-learning-open-research-in-higher-education/
LOCATION:University College Cork\, Ireland
CATEGORIES:Cork,NSS 20/21,Online Only,Online Only,Teaching and Learning Enhancement Within and Across Disciplines,University College Cork
ATTACH;FMTTYPE=image/jpeg:https://www.teachingandlearning.ie/wp-content/uploads/UCC-1000x500.jpg
END:VEVENT
END:VCALENDAR