BEGIN:VCALENDAR
VERSION:2.0
PRODID:-//National Forum for the Enhancement of Teaching and Learning in Higher Education - ECPv6.15.17.1//NONSGML v1.0//EN
CALSCALE:GREGORIAN
METHOD:PUBLISH
X-WR-CALNAME:National Forum for the Enhancement of Teaching and Learning in Higher Education
X-ORIGINAL-URL:https://www.teachingandlearning.ie
X-WR-CALDESC:Events for National Forum for the Enhancement of Teaching and Learning in Higher Education
REFRESH-INTERVAL;VALUE=DURATION:PT1H
X-Robots-Tag:noindex
X-PUBLISHED-TTL:PT1H
BEGIN:VTIMEZONE
TZID:UTC
BEGIN:STANDARD
TZOFFSETFROM:+0000
TZOFFSETTO:+0000
TZNAME:UTC
DTSTART:20190101T000000
END:STANDARD
END:VTIMEZONE
BEGIN:VEVENT
DTSTART;TZID=UTC:20200915T000000
DTEND;TZID=UTC:20200915T000000
DTSTAMP:20260424T182609
CREATED:20200921T160502Z
LAST-MODIFIED:20200924T071948Z
UID:42421-1600128000-1600128000@www.teachingandlearning.ie
SUMMARY:Universal Design for Learning: Accessibility and Inclusive Assessment and Feedback
DESCRIPTION:Learning Objectives\n• Identify and understand the principles of Universal Design for Learning (UDL)\n• Learn how to ensure resources created for students are accessible\n• Gain insight into the practical application of UDL principles in both face-to-face and remote educational settings and in particular to assessment and feedback practices\n• Learn how to transform assessment strategies to ensure all students have the opportunity to demonstrate their learning
URL:https://www.teachingandlearning.ie/event/universal-design-for-learning-accessibility-inclusive-assessment-and-feedback/
LOCATION:Cork Institute of Technology\, Ireland
CATEGORIES:Cork,Cork Institute of Technology,NSS 20/21,Online Only,Online Only,Student Success,Teaching and Learning in a Digital World,The Professional Development of All Those Who Teach
ATTACH;FMTTYPE=image/jpeg:https://www.teachingandlearning.ie/wp-content/uploads/CIT-1000x500.jpg
ORGANIZER;CN="Linda O'Sullivan":MAILTO:linda.osullivan@cit.ie
GEO:51.8968917;-8.4863157
END:VEVENT
END:VCALENDAR