BEGIN:VCALENDAR
VERSION:2.0
PRODID:-//National Forum for the Enhancement of Teaching and Learning in Higher Education - ECPv6.15.17.1//NONSGML v1.0//EN
CALSCALE:GREGORIAN
METHOD:PUBLISH
X-WR-CALNAME:National Forum for the Enhancement of Teaching and Learning in Higher Education
X-ORIGINAL-URL:https://www.teachingandlearning.ie
X-WR-CALDESC:Events for National Forum for the Enhancement of Teaching and Learning in Higher Education
REFRESH-INTERVAL;VALUE=DURATION:PT1H
X-Robots-Tag:noindex
X-PUBLISHED-TTL:PT1H
BEGIN:VTIMEZONE
TZID:UTC
BEGIN:STANDARD
TZOFFSETFROM:+0000
TZOFFSETTO:+0000
TZNAME:UTC
DTSTART:20180101T000000
END:STANDARD
END:VTIMEZONE
BEGIN:VEVENT
DTSTART;TZID=UTC:20191018T103000
DTEND;TZID=UTC:20191018T103000
DTSTAMP:20260425T181433
CREATED:20190903T015004Z
LAST-MODIFIED:20191010T091650Z
UID:32341-1571394600-1571394600@www.teachingandlearning.ie
SUMMARY:Professional Supervision for Social Workers
DESCRIPTION:Learning Outcomes\n\nTo understand the principles\, functions and purposes of supervision\nTo understand the components of\, and be able to negotiate\, a viable supervision contract\nTo understand and be able to apply the Morrison and Clare’s reflective practice cycle as a problem solving model in supervision\nTo review and develop supervisory core competencies
URL:https://www.teachingandlearning.ie/event/how-cultural-competence-can-be-applied-to-reinforce-post-race-narratives/
LOCATION:University College Cork\, Ireland
CATEGORIES:Cork,National Seminar Series 2019/20,The Professional Development of All Those Who Teach,University College Cork
ATTACH;FMTTYPE=image/jpeg:https://www.teachingandlearning.ie/wp-content/uploads/UCC-1000x500.jpg
ORGANIZER;CN="Joanne Rose":MAILTO:joanne.rose@ucc.ie
END:VEVENT
END:VCALENDAR