BEGIN:VCALENDAR
VERSION:2.0
PRODID:-//National Forum for the Enhancement of Teaching and Learning in Higher Education - ECPv6.15.17.1//NONSGML v1.0//EN
CALSCALE:GREGORIAN
METHOD:PUBLISH
X-WR-CALNAME:National Forum for the Enhancement of Teaching and Learning in Higher Education
X-ORIGINAL-URL:https://www.teachingandlearning.ie
X-WR-CALDESC:Events for National Forum for the Enhancement of Teaching and Learning in Higher Education
REFRESH-INTERVAL;VALUE=DURATION:PT1H
X-Robots-Tag:noindex
X-PUBLISHED-TTL:PT1H
BEGIN:VTIMEZONE
TZID:Europe/Dublin
BEGIN:DAYLIGHT
TZOFFSETFROM:+0000
TZOFFSETTO:+0100
TZNAME:IST
DTSTART:20250330T010000
END:DAYLIGHT
BEGIN:STANDARD
TZOFFSETFROM:+0100
TZOFFSETTO:+0000
TZNAME:GMT
DTSTART:20251026T010000
END:STANDARD
BEGIN:DAYLIGHT
TZOFFSETFROM:+0000
TZOFFSETTO:+0100
TZNAME:IST
DTSTART:20260329T010000
END:DAYLIGHT
BEGIN:STANDARD
TZOFFSETFROM:+0100
TZOFFSETTO:+0000
TZNAME:GMT
DTSTART:20261025T010000
END:STANDARD
BEGIN:DAYLIGHT
TZOFFSETFROM:+0000
TZOFFSETTO:+0100
TZNAME:IST
DTSTART:20270328T010000
END:DAYLIGHT
BEGIN:STANDARD
TZOFFSETFROM:+0100
TZOFFSETTO:+0000
TZNAME:GMT
DTSTART:20271031T010000
END:STANDARD
END:VTIMEZONE
BEGIN:VEVENT
DTSTART;TZID=Europe/Dublin:20260421T093000
DTEND;TZID=Europe/Dublin:20260422T163000
DTSTAMP:20260421T112328
CREATED:20260318T115802Z
LAST-MODIFIED:20260318T120635Z
UID:51151-1776763800-1776875400@www.teachingandlearning.ie
SUMMARY:2026 HEA Health and Wellbeing Conference ‘Global Perspectives\, Ireland Leadership: Transforming Healthy Campus Policy’
DESCRIPTION:We are delighted to invite you to attend the 2026 HEA Health and Wellbeing Conference ‘Global Perspectives\, Ireland Leadership: Transforming Healthy Campus Policy’\, Tuesday 21st and Wednesday 22nd April 2026\, at the Law Society of Ireland\, Blackhall Place\, Dublin 7. The event will be held across two days with pre-conference workshops on day one\, April 21st and the conference held on day two\, April 22nd. \nThe conference aims to build on the momentum of Ireland’s global success with the launch the Limerick Framework for Action in 2025 and focus on advancing national policy. Keynote speakers include Deputy Chief Medical Officer\, Professor Philip Dodd and a joint keynote with Canadian perspectives delivered by Professor Vicki Squires\, University of Saskatchewan\, and Dr Jennifer Thannhauser\, University of Calgary. Further information on speakers\, topics and themes will be provided. The preconference workshops include the ‘Limerick Framework for Action: Advancing the Global Health Promoting Campus Agenda’ with the University of Limerick and ‘Student Wellbeing – Scoping Online Learning Resources‘ with spunout. \n  \nCase Studies \nWe are inviting institutions to submit Healthy Campus Case Studies for display at the conference. You can find an updated 2026 template at HEA Healthy Campus Case Study Template 2026 Please submit your case studies (with the 2026 template only) to healthycampus@hea.ie\, by COB Friday April 3rd. \n  \nLightning Talks \nAs part of the conference agenda\, April 22nd\, we are inviting expressions of interests for speakers to present lightning talks relating to student and staff health and wellbeing. The closing date for submissions is Wednesday April 1st\, 2026. For more information or to submit an expression of interest please click here. \n  \nRegistration  \n\nDay One\, Pre-Conference Workshops\, Tuesday\, April 21st \, 9.30 – 16.00 pm\, please click here.\nDay Two\, Conference Day\, Wednesday\, April 22nd\, 9.30 – 16.30 pm\, please click here.\n\n  \nWe hope you can join us for this event and build on the momentum of the work to date. Please share this invitation with relevant colleagues and students working to support campus health and wellbeing. \n  \nAny questions please email healthycampus@hea.ie
URL:https://www.teachingandlearning.ie/event/2026-hea-health-and-wellbeing-conference-global-perspectives-ireland-leadership-transforming-healthy-campus-policy/
CATEGORIES:Healthy Campus
ATTACH;FMTTYPE=image/png:https://www.teachingandlearning.ie/wp-content/uploads/31037e12-b2c4-4c03-85d1-7c5ebec1e880-1-scaled.png
END:VEVENT
END:VCALENDAR