BEGIN:VCALENDAR
VERSION:2.0
PRODID:-//Teaching &amp; Learning - ECPv4.2.4//NONSGML v1.0//EN
CALSCALE:GREGORIAN
METHOD:PUBLISH
X-WR-CALNAME:Teaching &amp; Learning
X-ORIGINAL-URL:https://www.teachingandlearning.ie
X-WR-CALDESC:Events for Teaching &amp; Learning
BEGIN:VEVENT
DTSTART;VALUE=DATE:20160321
DTEND;VALUE=DATE:20160323
DTSTAMP:20171103T120012
CREATED:20160217
LAST-MODIFIED:20160217
UID:20290-1458518400-1458777599@www.teachingandlearning.ie
SUMMARY:TEL Week / ePortfolios in Ireland: What Now\, Where Next?
DESCRIPTION:\n\nDetails to be confirmed
URL:https://www.teachingandlearning.ie/event/tel-week-eportfolios-in-ireland-what-now-where-next/
LOCATION:Dublin Institute of Technology\, DIT Cathal Brugha Street.\, Dublin 
GEO:53.3498053;-6.2603097
X-APPLE-STRUCTURED-LOCATION;VALUE=URI;X-ADDRESS=Dublin Institute of Technology DIT Cathal Brugha Street. Dublin;X-APPLE-RADIUS=500;X-TITLE=Dublin Institute of Technology\, DIT Cathal Brugha Street.:geo:-6.2603097,53.3498053
CATEGORIES:An ePortfolio strategy to enhance student learning, assessment and staff professional development,Leinster Region,TEL Week
END:VEVENT
BEGIN:VEVENT
DTSTART;VALUE=DATE:20160321
DTEND;VALUE=DATE:20160323
DTSTAMP:20171103T120012
CREATED:20160301
LAST-MODIFIED:20160301
UID:20471-1458518400-1458777599@www.teachingandlearning.ie
SUMMARY:ePortfolios in Ireland: What Now\, Where Next?
DESCRIPTION:ePortfolios in Ireland: What Now\, Where Next? from March 21-23 at DIT Aungier St. An exploration of the many facets of ePortfolios – from teaching\, learning and assessment to reflecting and identity building. Over the course of this three-day event\, ePortfolios in Ireland: What Now\, Where Next? will be highlighting the inspiring work that is underway in institutions across the country and getting an insight into international trends and perspectives. The team are delighted to have Dr Helen Barrett\, Dr Michael Seery and Helen Beetham sharing their expertise with us as keynote speakers for each of the days.\n\nThe conference is being organised by Dublin Institute of Technology\, Institute of Technology Tallaght\, Institute of Technology Blanchardstown and Hibernia College\, with the support of the National Forum for the Enhancement of Teaching and Learning.\n\nPlaces are limited to 100 participants. If you are interested in attending for one day or for the entire event\, go to Registration to book your place.\n\nFor further information about the event and a draft programme\, visit ePortfolio Hub.\n\nAny queries can be directed to eportfolioevent@gmail.com.\n\n
URL:https://www.teachingandlearning.ie/event/eportfolios-in-ireland-what-now-where-next/
LOCATION:Dublin Institute of Technology\, DIT Cathal Brugha Street.\, Dublin 
GEO:53.3498053;-6.2603097
X-APPLE-STRUCTURED-LOCATION;VALUE=URI;X-ADDRESS=Dublin Institute of Technology DIT Cathal Brugha Street. Dublin;X-APPLE-RADIUS=500;X-TITLE=Dublin Institute of Technology\, DIT Cathal Brugha Street.:geo:-6.2603097,53.3498053
CATEGORIES:T&L Events
END:VEVENT
END:VCALENDAR