BEGIN:VCALENDAR
VERSION:2.0
PRODID:-//Teaching &amp; Learning - ECPv4.2.4//NONSGML v1.0//EN
CALSCALE:GREGORIAN
METHOD:PUBLISH
X-WR-CALNAME:Teaching &amp; Learning
X-ORIGINAL-URL:https://www.teachingandlearning.ie
X-WR-CALDESC:Events for Teaching &amp; Learning
BEGIN:VEVENT
DTSTART;TZID=UTC+0:20160316T110000
DTEND;TZID=UTC+0:20160316T130000
DTSTAMP:20171103T115419
CREATED:20160218T001248
LAST-MODIFIED:20160218T001248
UID:20303-1458126000-1458133200@www.teachingandlearning.ie
SUMMARY:TEL week Clinic/Workshop
DESCRIPTION:The “Recognition of Prior Learning (RPL) ePortfolio Roadshow”  is the 2015/16 TEL Week  and will be led  by Galway Mayo Institute of Technology which will partner with Institute of Technology\, Sligo and Letterkenny Institute of Technology.  This TEL Week will run from 14-16  March 2016.
URL:https://www.teachingandlearning.ie/event/tel-week-clinicworkshop-3/
LOCATION:Waterford\, Ireland
GEO:52.256667;-7.129167
CATEGORIES:Munster Region,Recognition of Prior Learning (RPL) ePortfolio Roadshow,TEL Week
END:VEVENT
END:VCALENDAR