BEGIN:VCALENDAR
VERSION:2.0
PRODID:-//Teaching &amp; Learning - ECPv4.2.4//NONSGML v1.0//EN
CALSCALE:GREGORIAN
METHOD:PUBLISH
X-WR-CALNAME:Teaching &amp; Learning
X-ORIGINAL-URL:https://www.teachingandlearning.ie
X-WR-CALDESC:Events for Teaching &amp; Learning
BEGIN:VEVENT
DTSTART;VALUE=DATE:20160314
DTEND;VALUE=DATE:20160314
DTSTAMP:20171103T115349
CREATED:20160218
LAST-MODIFIED:20160218
UID:20299-1457913600-1457999999@www.teachingandlearning.ie
SUMMARY:TEL Week / Launch of new website  and online course- Recognition of Prior Learning (RPL) – Assessment Toolkit
DESCRIPTION:The “Recognition of Prior Learning (RPL) ePortfolio Roadshow”  is the 2015/16 TEL Week  and will be led  by Galway Mayo Institute of Technology which will partner with Institute of Technology\, Sligo and Letterkenny Institute of Technology.  This TEL Week will run from 14-16  March 2016.
URL:https://www.teachingandlearning.ie/event/tel-week-launch-of-new-website-and-online-course-recognition-of-prior-learning-rpl-assessment-toolkit/
CATEGORIES:Recognition of Prior Learning (RPL) ePortfolio Roadshow,TEL Week
END:VEVENT
BEGIN:VEVENT
DTSTART;VALUE=DATE:20160314
DTEND;VALUE=DATE:20160315
DTSTAMP:20171103T115349
CREATED:20160302
LAST-MODIFIED:20160302
UID:20476-1457913600-1458086399@www.teachingandlearning.ie
SUMMARY:AHEAD Symposium 2016 - Taking Stock: UDL
DESCRIPTION:Disability and Access officers have for some time been the unofficial ambassadors for universal design for learning (UDL) in higher education in Ireland\, but is this enough to make it happen? Should the responsibility for UDL lie across the whole campus?\n\nWe want to pause and take stock by having a real and honest conversation about UDL with key professional staff\, including senior staff in disability/access\, career placement\, career guidance\, student support services\, libraries\, examinations and admissions.\nSo let’s talk about….\nWhat’s great about UDL\, what could be better & what are the obstacles?  What would you like to have to never do again & what restricts you doing what you really want to in your role? What shapes your opinions about disability in higher education?\n\nThis symposium will showcase thought provoking keynote addresses on teaching\, learning and assessment and mix that with stimulating interactive discussions. This year’s event includes an exciting exhibition showcasing inspirational contributions from the leaders of higher education in Ireland\, the champions for change on the ground and the learners who will shape Ireland’s future.\n\nFrom our work together at this event we will generate:\n\n\tAn action plan that acts a baseline for the implementation of UDL in the third level sector.\n\tA proposed framework for establishing a steering group for UDL on campus - addressing who should be involved.\n\tA proposed statement to be put forward to the next Bologna Policy Forum in 2018.\n\nThe ultimate result of the day will be a single vision statement that will be shared with college Presidents across the higher education sector.\n\nDownload the UDL Symposium Brochure
URL:https://www.teachingandlearning.ie/event/ahead-symposium-2016-taking-stock-udl/
LOCATION:Glanevin\, Dublin 9\, Ireland
GEO:53.3630556;-6.2707389
X-APPLE-STRUCTURED-LOCATION;VALUE=URI;X-ADDRESS=Glanevin Dublin 9 Ireland;X-APPLE-RADIUS=500;X-TITLE=Glanevin:geo:-6.2707389,53.3630556
CATEGORIES:T&L Events
END:VEVENT
BEGIN:VEVENT
DTSTART;TZID=UTC+0:20160314T110000
DTEND;TZID=UTC+0:20160314T130000
DTSTAMP:20171103T115349
CREATED:20160218T001022
LAST-MODIFIED:20160218T001022
UID:20300-1457953200-1457960400@www.teachingandlearning.ie
SUMMARY:TEL week Clinic/Workshop
DESCRIPTION:The “Recognition of Prior Learning (RPL) ePortfolio Roadshow”  is the 2015/16 TEL Week  and will be led  by Galway Mayo Institute of Technology which will partner with Institute of Technology\, Sligo and Letterkenny Institute of Technology.  This TEL Week will run from 14-16  March 2016.
URL:https://www.teachingandlearning.ie/event/tel-week-clinicworkshop/
CATEGORIES:Connaught Region,Recognition of Prior Learning (RPL) ePortfolio Roadshow,TEL Week,Ulster Region
END:VEVENT
END:VCALENDAR