BEGIN:VCALENDAR
VERSION:2.0
PRODID:-//Teaching &amp; Learning - ECPv4.2.4//NONSGML v1.0//EN
CALSCALE:GREGORIAN
METHOD:PUBLISH
X-WR-CALNAME:Teaching &amp; Learning
X-ORIGINAL-URL:https://www.teachingandlearning.ie
X-WR-CALDESC:Events for Teaching &amp; Learning
BEGIN:VEVENT
DTSTART;TZID=UTC+0:20160309T113000
DTEND;TZID=UTC+0:20160309T131500
DTSTAMP:20171103T115304
CREATED:20160217T230920
LAST-MODIFIED:20160223T172556
UID:20259-1457523000-1457529300@www.teachingandlearning.ie
SUMMARY:TEL Week / Technology Enhanced Learning Day
DESCRIPTION:As part of this process UCD will present two case studies of Digital Skills in Action\, these will highlight the complexity\, workload and supports required to develop and integrate technology into the learning process. The case studies will offer guidelines for those pursuing similar initiatives and provide access to resource materials.\n11.30 Introduction to the Cluster Project\n\n11.45 Case Study 1 followed by Q&A\n\n12.30 Case Study 2 followed by Q&A\n\n13.15 Lunch\n\nPlease note this event will be directly followed by a series of workshops relating to the All Aboard Project. And preceding by a review of e-assessment approaches currently happening in UCD.\n\nCase Studies\n\nReusable Learning Objects to assist Undergraduate Nursing students in caring for patients with chronic wounds.\n\nDr Catherine Redmond\n\nUse of short clinical vignettes combined with structured formative MCQ-based questions for veterinary students\n\nDr. Emma J. O'Neill\n\nRegistration site: http://bit.ly/UCDTELday\nProject Information site: http://bit.ly/UCDDSiA
URL:https://www.teachingandlearning.ie/event/tel-week-technology-enhanced-learning-day/
LOCATION:Dublin\, Ireland
GEO:53.3498053;-6.2603097
CATEGORIES:Digital Skills in Action,Leinster Region,TEL Week
END:VEVENT
BEGIN:VEVENT
DTSTART;TZID=UTC+0:20160309T120000
DTEND;TZID=UTC+0:20160309T140000
DTSTAMP:20171103T115304
CREATED:20160217T233332
LAST-MODIFIED:20160217T233332
UID:20278-1457524800-1457532000@www.teachingandlearning.ie
SUMMARY:TEL Week / Technology Enhanced Feedback Approaches
DESCRIPTION:The "What Works and Why?" partnership will run a  2015/16 TEL week that will be led by  Dublin City University and partners Athlone Institute of Technology (AIT) and Dundalk Institute of Technology (DkIT).  This project will run from 7 to 11 March 2016.
URL:https://www.teachingandlearning.ie/event/tel-week-technology-enhanced-feedback-approaches-2/
CATEGORIES:Leinster Region,Technology Enhanced Learning: What Works and Why?,TEL Week
END:VEVENT
BEGIN:VEVENT
DTSTART;TZID=UTC+0:20160309T130000
DTEND;TZID=UTC+0:20160309T140000
DTSTAMP:20171103T115304
CREATED:20160217T233505
LAST-MODIFIED:20160217T233505
UID:20280-1457528400-1457532000@www.teachingandlearning.ie
SUMMARY:TEL Week / Universal Design for Learning (UDL) - using advanced PowerPoint to create interactive
DESCRIPTION:The "What Works and Why?" partnership will run a  2015/16 TEL week that will be led by  Dublin City University and partners Athlone Institute of Technology (AIT) and Dundalk Institute of Technology (DkIT).  This project will run from 7 to 11 March 2016.
URL:https://www.teachingandlearning.ie/event/tel-week-universal-design-for-learning-udl-using-advanced-powerpoint-to-create-interactive/
LOCATION:Athlone Institute of Technology\, Athlone\, Co. Westmeath\, Ireland
GEO:53.4189394;-7.905093
X-APPLE-STRUCTURED-LOCATION;VALUE=URI;X-ADDRESS=Athlone Institute of Technology Athlone Co. Westmeath Ireland;X-APPLE-RADIUS=500;X-TITLE=Athlone Institute of Technology:geo:-7.905093,53.4189394
CATEGORIES:Leinster Region,Technology Enhanced Learning: What Works and Why?,TEL Week
END:VEVENT
BEGIN:VEVENT
DTSTART;TZID=UTC+0:20160309T150000
DTEND;TZID=UTC+0:20160309T160000
DTSTAMP:20171103T115304
CREATED:20160217T233424
LAST-MODIFIED:20160307T175418
UID:20279-1457535600-1457539200@www.teachingandlearning.ie
SUMMARY:TEL Week / Increasing student engagement using the Progress Bar in Moodle (Workshop) - POSTPONED
DESCRIPTION:Postponed\n\nThe "What Works and Why?" partnership will run a  2015/16 TEL week that will be led by  Dublin City University and partners Athlone Institute of Technology (AIT) and Dundalk Institute of Technology (DkIT).  This project will run from 7 to 11 March 2016.
URL:https://www.teachingandlearning.ie/event/tel-week-increasing-student-engagement-using-the-progress-bar-in-moodle-workshop/
CATEGORIES:Leinster Region,Technology Enhanced Learning: What Works and Why?,TEL Week
END:VEVENT
END:VCALENDAR