BEGIN:VCALENDAR
VERSION:2.0
PRODID:-//Teaching &amp; Learning - ECPv4.2.4//NONSGML v1.0//EN
CALSCALE:GREGORIAN
METHOD:PUBLISH
X-WR-CALNAME:Teaching &amp; Learning
X-ORIGINAL-URL:https://www.teachingandlearning.ie
X-WR-CALDESC:Events for Teaching &amp; Learning
BEGIN:VEVENT
DTSTART;TZID=UTC+0:20160308T030000
DTEND;TZID=UTC+0:20160308T160000
DTSTAMP:20171103T115241
CREATED:20160217T232944
LAST-MODIFIED:20160307T180930
UID:20275-1457406000-1457452800@www.teachingandlearning.ie
SUMMARY:TEL Week / Using Socrative for Formative Assessment and Classroom Interaction Workshop
DESCRIPTION:Event Description\nUsing Socrative for formative assessment and classroom interaction (Practical workshop)\n\nStudent Response systems\, originally in the form of clickers and more recently as web-based tools\, can be used to encourage participation and create opportunities for formative assessment.\n\nThis workshop introduces participants to Socrative (www.socrative.com)\, which is an easy-to-use free web-based student response system that allows teachers to carry out formative assessment in the classroom through a range of activities which include the Quick Question Response\, Student-paced quiz\, Lecturer-paced Quiz and Team Quiz consisting of Multiple Choice\, True or False and Short Answer questions. Students can respond anonymously to these questions using smartphones\, tablets or laptops. The software provides immediate feedback to encourage interaction and engagement also includes a reporting facility\n\nFacilitator: Gerry Gallagher\n\nThe "What Works and Why?" partnership will run a  2015/16 TEL week that will be led by  Dublin City University and partners Athlone Institute of Technology (AIT) and Dundalk Institute of Technology (DkIT).  This project will run from 7 to 11 March 2016.
URL:https://www.teachingandlearning.ie/event/tel-week-using-socrative-formative-assessment-classroom-interaction-workshop/
CATEGORIES:Leinster Region,Technology Enhanced Learning: What Works and Why?,TEL Week
END:VEVENT
BEGIN:VEVENT
DTSTART;TZID=UTC+0:20160308T080000
DTEND;TZID=UTC+0:20160308T170000
DTSTAMP:20171103T115241
CREATED:20160217T202823
LAST-MODIFIED:20160307T180428
UID:20214-1457424000-1457456400@www.teachingandlearning.ie
SUMMARY:TEL Week / Take One Step - Fifth TEL Roadshow
DESCRIPTION:Consortium partners  University of Limerick\, Mary Immaculate College and Limerick Institute of Technology have lined-up a range of  TEL Roadshow events that will showcase  staff and student innovation proposals and will also  provide workshops on the skills identified by the local staff and student populations.\n\n
URL:https://www.teachingandlearning.ie/event/tel-week-take-one-step-fifth-tel-roadshow/
LOCATION:LIT Thurles
GEO:52.6801064;-7.8044421
X-APPLE-STRUCTURED-LOCATION;VALUE=URI;X-ADDRESS=LIT Thurles;X-APPLE-RADIUS=500;X-TITLE=LIT Thurles:geo:-7.8044421,52.6801064
CATEGORIES:Munster Region,Take one step – TEL Week in the Shannon Consortium,TEL Week
END:VEVENT
BEGIN:VEVENT
DTSTART;TZID=UTC+0:20160308T080000
DTEND;TZID=UTC+0:20160308T170000
DTSTAMP:20171103T115241
CREATED:20160217T230435
LAST-MODIFIED:20160303T165455
UID:20256-1457424000-1457456400@www.teachingandlearning.ie
SUMMARY:TEL Week / Show & TEL @ MIE
DESCRIPTION:The programme will feature a case study of TEL in Action with Dr. Michael Flannery and his C3I & SL project. This will provide an insight into how TEL can be used in the classroom\, and showcase how such use of TEL fits into an overall 'Digital Skills in Action' framework.\n\na.      Morning session – Drop in Session with Michael Flannery showing his ‘Second Life and C3i’ project with B.Ed 2 students\n\nb.      Afternoon session – follow up ‘hands on’ session in IT room with staff to showcase digital skills that can be learned using Second Life in the Creative Arts realm (and others) – to be explored\n\nCase Study\n\nSecond Life and C3i\n\nBEd Year 2 Students / Dr Michael Flannery\n\nBooking information\n\n 
URL:https://www.teachingandlearning.ie/event/tel-week-show-tel-mie/
LOCATION:Griffith Ave\, Dublin 9\, Ireland
GEO:53.3686606;-6.2289188
X-APPLE-STRUCTURED-LOCATION;VALUE=URI;X-ADDRESS=Griffith Ave Dublin 9 Ireland;X-APPLE-RADIUS=500;X-TITLE=Griffith Ave:geo:-6.2289188,53.3686606
CATEGORIES:Digital Skills in Action,Leinster Region,TEL Week
END:VEVENT
BEGIN:VEVENT
DTSTART;TZID=UTC+0:20160308T103000
DTEND;TZID=UTC+0:20160308T113000
DTSTAMP:20171103T115241
CREATED:20160217T232827
LAST-MODIFIED:20160307T181413
UID:20274-1457433000-1457436600@www.teachingandlearning.ie
SUMMARY:TEL Week / WW&W Technology Enhanced Learning Project Showcase
DESCRIPTION:The What Works & Why project has supported a number of innovative projects and teaching groups across DCU. This event showcases some of the exciting work that is happening with these initiatives. Each presenter will deliver a brief 'elevator pitch' of their project and you can expect to hear about headcams for teaching\, in class polling\, universal design for learning\, peer assesment\, MOOC learning design\, Lego Mindstorms and more!\n\nThis is a unique opportunity to be inspired by the innovative use of technology to enhance learning across the campus.\n\nThe "What Works and Why?" partnership will run a  2015/16 TEL week that will be led by  Dublin City University and partners Athlone Institute of Technology (AIT) and Dundalk Institute of Technology (DkIT).  This project will run from 7 to 11 March 2016.
URL:https://www.teachingandlearning.ie/event/tel-week-innovation-projects-showcase/
LOCATION:Glanevin\, Dublin 9\, Ireland
GEO:53.3630556;-6.2707389
X-APPLE-STRUCTURED-LOCATION;VALUE=URI;X-ADDRESS=Glanevin Dublin 9 Ireland;X-APPLE-RADIUS=500;X-TITLE=Glanevin:geo:-6.2707389,53.3630556
CATEGORIES:Leinster Region,Technology Enhanced Learning: What Works and Why?,TEL Week
END:VEVENT
BEGIN:VEVENT
DTSTART;TZID=UTC+0:20160308T110000
DTEND;TZID=UTC+0:20160308T130000
DTSTAMP:20171103T115241
CREATED:20160217T232700
LAST-MODIFIED:20160307T181235
UID:20273-1457434800-1457442000@www.teachingandlearning.ie
SUMMARY:TEL Week / Technology Enhanced Feedback Approaches
DESCRIPTION:Feedback is one of the most powerful influences on learning and achievement. (Hattie and Timperley 2007: 81)\n\nThis workshop will introduce contemporary perspectives on feedback and will discuss best practices approaches to feedback in Higher Education. Using case study examples from the Y1Feedback project as well as the wider literature\, it will then showcase a range of technology-supported feedback approaches that work\, and why.\n\nFacilitators: Lisa O’Regan and Morag Munro. Lisa O’Regan is eLearning Development Officer at Maynooth University and Project Lead for the Y1Feedback project.  Morag Munro is Learning Technologist on the Y1Feedback Project at Maynooth University.\n\nThe Y1Feedback Project (Supporting Transition: Enhancing Feedback in First Year Using Digital Technologies) is a collaborative initiative between Maynooth University\, Athlone Institute of Technology\, Dublin City University\, and Dundalk Institute of Technology. The project aims to enhance feedback dialogue in first year to support student transition and to leverage the potential for digital technologies to support transformation in feedback practices. This project is funded by the National Forum for the Enhancement of Teaching and Learning.\n\nThe “ What Works and Why?” partnership will run a  2015/16 TEL week that will be led by  Dublin City University  and partners Athlone Institute of Technology (AIT) and Dundalk Institute of Technology (DkIT).  This project will run from 7 to 11 March 2016.
URL:https://www.teachingandlearning.ie/event/tel-week-technology-enhanced-feedback-approaches/
LOCATION:Athlone Institute of Technology\, Athlone\, Co. Westmeath\, Ireland
GEO:53.4189394;-7.905093
X-APPLE-STRUCTURED-LOCATION;VALUE=URI;X-ADDRESS=Athlone Institute of Technology Athlone Co. Westmeath Ireland;X-APPLE-RADIUS=500;X-TITLE=Athlone Institute of Technology:geo:-7.905093,53.4189394
CATEGORIES:Leinster Region,Technology Enhanced Learning: What Works and Why?,TEL Week
END:VEVENT
BEGIN:VEVENT
DTSTART;TZID=UTC+0:20160308T130000
DTEND;TZID=UTC+0:20160308T140000
DTSTAMP:20171103T115241
CREATED:20160217T233127
LAST-MODIFIED:20160217T233127
UID:20276-1457442000-1457445600@www.teachingandlearning.ie
SUMMARY:TEL Week / Google Apps Using Google Apps for Student Collaboration and co-operative learning
DESCRIPTION:The "What Works and Why?" partnership will run a  2015/16 TEL week that will be led by  Dublin City University and partners Athlone Institute of Technology (AIT) and Dundalk Institute of Technology (DkIT).  This project will run from 7 to 11 March 2016.
URL:https://www.teachingandlearning.ie/event/tel-week-google-apps-using-google-apps-student-collaboration-co-operative-learning/
LOCATION:Athlone Institute of Technology\, Athlone\, Co. Westmeath\, Ireland
GEO:53.4189394;-7.905093
X-APPLE-STRUCTURED-LOCATION;VALUE=URI;X-ADDRESS=Athlone Institute of Technology Athlone Co. Westmeath Ireland;X-APPLE-RADIUS=500;X-TITLE=Athlone Institute of Technology:geo:-7.905093,53.4189394
CATEGORIES:Leinster Region,Technology Enhanced Learning: What Works and Why?,TEL Week
END:VEVENT
BEGIN:VEVENT
DTSTART;TZID=UTC+0:20160308T143000
DTEND;TZID=UTC+0:20160308T163000
DTSTAMP:20171103T115241
CREATED:20160217T233247
LAST-MODIFIED:20160217T233247
UID:20277-1457447400-1457454600@www.teachingandlearning.ie
SUMMARY:TEL Week / Moodle Step Up 2
DESCRIPTION:The "What Works and Why?" partnership will run a  2015/16 TEL week that will be led by  Dublin City University and partners Athlone Institute of Technology (AIT) and Dundalk Institute of Technology (DkIT).  This project will run from 7 to 11 March 2016.
URL:https://www.teachingandlearning.ie/event/tel-week-moodle-step-up-2/
LOCATION:Athlone Institute of Technology\, Athlone\, Co. Westmeath\, Ireland
GEO:53.4189394;-7.905093
X-APPLE-STRUCTURED-LOCATION;VALUE=URI;X-ADDRESS=Athlone Institute of Technology Athlone Co. Westmeath Ireland;X-APPLE-RADIUS=500;X-TITLE=Athlone Institute of Technology:geo:-7.905093,53.4189394
CATEGORIES:Leinster Region,Technology Enhanced Learning: What Works and Why?,TEL Week
END:VEVENT
END:VCALENDAR